BEGIN:VCALENDAR
VERSION:2.0
PRODID:-//Remnant Fellowship News - ECPv6.8.3//NONSGML v1.0//EN
CALSCALE:GREGORIAN
METHOD:PUBLISH
X-WR-CALNAME:Remnant Fellowship News
X-ORIGINAL-URL:https://www.remnantfellowshipnews.com
X-WR-CALDESC:Events for Remnant Fellowship News
REFRESH-INTERVAL;VALUE=DURATION:PT1H
X-Robots-Tag:noindex
X-PUBLISHED-TTL:PT1H
BEGIN:VTIMEZONE
TZID:America/Chicago
BEGIN:DAYLIGHT
TZOFFSETFROM:-0600
TZOFFSETTO:-0500
TZNAME:CDT
DTSTART:20230312T080000
END:DAYLIGHT
BEGIN:STANDARD
TZOFFSETFROM:-0500
TZOFFSETTO:-0600
TZNAME:CST
DTSTART:20231105T070000
END:STANDARD
END:VTIMEZONE
BEGIN:VEVENT
DTSTART;VALUE=DATE:20231111
DTEND;VALUE=DATE:20231112
DTSTAMP:20260423T225144
CREATED:20221213T222126Z
LAST-MODIFIED:20221213T222126Z
UID:26662-1699660800-1699747199@www.remnantfellowshipnews.com
SUMMARY:27th of Dedication
DESCRIPTION:
URL:https://www.remnantfellowshipnews.com/event/27th-of-dedication/
LOCATION:TN
CATEGORIES:Hebrew Calendar
END:VEVENT
BEGIN:VEVENT
DTSTART;TZID=America/Chicago:20231111T173000
DTEND;TZID=America/Chicago:20231111T190000
DTSTAMP:20260423T225145
CREATED:20230718T190821Z
LAST-MODIFIED:20231030T150230Z
UID:27015-1699723800-1699729200@www.remnantfellowshipnews.com
SUMMARY:Sabbath Evening Dedication Assembly and Webcast
DESCRIPTION:Join us locally or online at 5:30pm for our Dedication Assembly and webcast.
URL:https://www.remnantfellowshipnews.com/event/sabbath-evening-dedication-assembly-and-webcast-2/
LOCATION:Remnant Fellowship Church\, 1230 Franklin Rd\, Brentwood\, TN\, 37027
CATEGORIES:Assemblies,Events
END:VEVENT
END:VCALENDAR