BEGIN:VCALENDAR
VERSION:2.0
PRODID:-//Remnant Fellowship News - ECPv6.8.3//NONSGML v1.0//EN
CALSCALE:GREGORIAN
METHOD:PUBLISH
X-ORIGINAL-URL:https://www.remnantfellowshipnews.com
X-WR-CALDESC:Events for Remnant Fellowship News
REFRESH-INTERVAL;VALUE=DURATION:PT1H
X-Robots-Tag:noindex
X-PUBLISHED-TTL:PT1H
BEGIN:VTIMEZONE
TZID:America/Chicago
BEGIN:DAYLIGHT
TZOFFSETFROM:-0600
TZOFFSETTO:-0500
TZNAME:CDT
DTSTART:20230312T080000
END:DAYLIGHT
BEGIN:STANDARD
TZOFFSETFROM:-0500
TZOFFSETTO:-0600
TZNAME:CST
DTSTART:20231105T070000
END:STANDARD
END:VTIMEZONE
BEGIN:VEVENT
DTSTART;VALUE=DATE:20231125
DTEND;VALUE=DATE:20231126
DTSTAMP:20260424T122556
CREATED:20221213T222212Z
LAST-MODIFIED:20221213T222212Z
UID:26676-1700870400-1700956799@www.remnantfellowshipnews.com
SUMMARY:12th of Celebration
DESCRIPTION:
URL:https://www.remnantfellowshipnews.com/event/12th-of-celebration/
LOCATION:TN
CATEGORIES:Hebrew Calendar
END:VEVENT
BEGIN:VEVENT
DTSTART;TZID=America/Chicago:20231125T173000
DTEND;TZID=America/Chicago:20231125T193000
DTSTAMP:20260424T122556
CREATED:20230907T171340Z
LAST-MODIFIED:20230907T171340Z
UID:27076-1700933400-1700940600@www.remnantfellowshipnews.com
SUMMARY:Sabbath Evening Fellowship and Potluck
DESCRIPTION:Join us locally at 5:30pm for an evening fellowship time and potluck.
URL:https://www.remnantfellowshipnews.com/event/sabbath-evening-fellowship-and-potluck/
LOCATION:Remnant Fellowship Church\, 1230 Franklin Rd\, Brentwood\, TN\, 37027
CATEGORIES:Assemblies
END:VEVENT
END:VCALENDAR