BEGIN:VCALENDAR
VERSION:2.0
PRODID:-//Remnant Fellowship News - ECPv6.8.3//NONSGML v1.0//EN
CALSCALE:GREGORIAN
METHOD:PUBLISH
X-WR-CALNAME:Remnant Fellowship News
X-ORIGINAL-URL:https://www.remnantfellowshipnews.com
X-WR-CALDESC:Events for Remnant Fellowship News
REFRESH-INTERVAL;VALUE=DURATION:PT1H
X-Robots-Tag:noindex
X-PUBLISHED-TTL:PT1H
BEGIN:VTIMEZONE
TZID:America/Chicago
BEGIN:DAYLIGHT
TZOFFSETFROM:-0600
TZOFFSETTO:-0500
TZNAME:CDT
DTSTART:20240310T080000
END:DAYLIGHT
BEGIN:STANDARD
TZOFFSETFROM:-0500
TZOFFSETTO:-0600
TZNAME:CST
DTSTART:20241103T070000
END:STANDARD
END:VTIMEZONE
BEGIN:VEVENT
DTSTART;VALUE=DATE:20241005
DTEND;VALUE=DATE:20241006
DTSTAMP:20260420T213117
CREATED:20231206T220949Z
LAST-MODIFIED:20231206T220949Z
UID:27427-1728086400-1728172799@www.remnantfellowshipnews.com
SUMMARY:3rd of Harvest
DESCRIPTION:
URL:https://www.remnantfellowshipnews.com/event/3rd-of-harvest-2/
LOCATION:TN
CATEGORIES:Hebrew Calendar
END:VEVENT
BEGIN:VEVENT
DTSTART;TZID=America/Chicago:20241005T100000
DTEND;TZID=America/Chicago:20241005T113000
DTSTAMP:20260420T213117
CREATED:20240830T155429Z
LAST-MODIFIED:20240919T143050Z
UID:27795-1728122400-1728127800@www.remnantfellowshipnews.com
SUMMARY:Sabbath Morning Assembly - Day of Trumpets
DESCRIPTION:Join us locally at 10:00am for our Assembly
URL:https://www.remnantfellowshipnews.com/event/sabbath-morning-assembly-16/
LOCATION:Remnant Fellowship Church\, 1230 Franklin Rd\, Brentwood\, TN\, 37027
CATEGORIES:Assemblies
END:VEVENT
END:VCALENDAR