BEGIN:VCALENDAR
VERSION:2.0
PRODID:-//Remnant Fellowship News - ECPv6.8.3//NONSGML v1.0//EN
CALSCALE:GREGORIAN
METHOD:PUBLISH
X-ORIGINAL-URL:https://www.remnantfellowshipnews.com
X-WR-CALDESC:Events for Remnant Fellowship News
REFRESH-INTERVAL;VALUE=DURATION:PT1H
X-Robots-Tag:noindex
X-PUBLISHED-TTL:PT1H
BEGIN:VTIMEZONE
TZID:America/Chicago
BEGIN:DAYLIGHT
TZOFFSETFROM:-0600
TZOFFSETTO:-0500
TZNAME:CDT
DTSTART:20240310T080000
END:DAYLIGHT
BEGIN:STANDARD
TZOFFSETFROM:-0500
TZOFFSETTO:-0600
TZNAME:CST
DTSTART:20241103T070000
END:STANDARD
END:VTIMEZONE
BEGIN:VEVENT
DTSTART;VALUE=DATE:20241009
DTEND;VALUE=DATE:20241010
DTSTAMP:20260420T224405
CREATED:20231206T221003Z
LAST-MODIFIED:20231206T221003Z
UID:27431-1728432000-1728518399@www.remnantfellowshipnews.com
SUMMARY:7th of Harvest
DESCRIPTION:
URL:https://www.remnantfellowshipnews.com/event/7th-of-harvest-2/
LOCATION:TN
CATEGORIES:Hebrew Calendar
END:VEVENT
BEGIN:VEVENT
DTSTART;TZID=America/Chicago:20241009T180000
DTEND;TZID=America/Chicago:20241009T190000
DTSTAMP:20260420T224405
CREATED:20241002T203737Z
LAST-MODIFIED:20241002T203737Z
UID:27816-1728496800-1728500400@www.remnantfellowshipnews.com
SUMMARY:Wednesday Fellowship Evening – No Official Webcast
DESCRIPTION:This Wednesday at 6pm the church building will be open for a time of prayer.
URL:https://www.remnantfellowshipnews.com/event/wednesday-fellowship-evening-no-official-webcast-3/
LOCATION:Remnant Fellowship Church\, 1230 Franklin Rd\, Brentwood\, TN\, 37027
CATEGORIES:Assemblies
END:VEVENT
END:VCALENDAR