BEGIN:VCALENDAR
VERSION:2.0
PRODID:-//Remnant Fellowship News - ECPv6.8.3//NONSGML v1.0//EN
CALSCALE:GREGORIAN
METHOD:PUBLISH
X-WR-CALNAME:Remnant Fellowship News
X-ORIGINAL-URL:https://www.remnantfellowshipnews.com
X-WR-CALDESC:Events for Remnant Fellowship News
REFRESH-INTERVAL;VALUE=DURATION:PT1H
X-Robots-Tag:noindex
X-PUBLISHED-TTL:PT1H
BEGIN:VTIMEZONE
TZID:America/Chicago
BEGIN:DAYLIGHT
TZOFFSETFROM:-0600
TZOFFSETTO:-0500
TZNAME:CDT
DTSTART:20240310T080000
END:DAYLIGHT
BEGIN:STANDARD
TZOFFSETFROM:-0500
TZOFFSETTO:-0600
TZNAME:CST
DTSTART:20241103T070000
END:STANDARD
END:VTIMEZONE
BEGIN:VEVENT
DTSTART;VALUE=DATE:20241012
DTEND;VALUE=DATE:20241013
DTSTAMP:20260423T133228
CREATED:20231206T221018Z
LAST-MODIFIED:20231206T221018Z
UID:27434-1728691200-1728777599@www.remnantfellowshipnews.com
SUMMARY:10th of Harvest
DESCRIPTION:
URL:https://www.remnantfellowshipnews.com/event/10th-of-harvest-2/
LOCATION:TN
CATEGORIES:Hebrew Calendar
END:VEVENT
BEGIN:VEVENT
DTSTART;TZID=America/Chicago:20241012T153000
DTEND;TZID=America/Chicago:20241012T170000
DTSTAMP:20260423T133228
CREATED:20240730T144115Z
LAST-MODIFIED:20240730T144115Z
UID:27738-1728747000-1728752400@www.remnantfellowshipnews.com
SUMMARY:Day of Atonement 2024 Assembly
DESCRIPTION:The DAY of ATONEMENT – 3:30pm Central Time Assembly & Webcast. NOTE that this is an Assembly when we as a Church body observe the symbolism of what this day means – a grateful celebration of ATONEMENT and PURITY – as we dress LIGHT COLORS
URL:https://www.remnantfellowshipnews.com/event/day-of-atonement-2024-assembly/
LOCATION:Remnant Fellowship Church\, 1230 Franklin Rd\, Brentwood\, TN\, 37027
CATEGORIES:Assemblies,Festivals and National Events,Hebrew Calendar
END:VEVENT
END:VCALENDAR