BEGIN:VCALENDAR
VERSION:2.0
PRODID:-//Remnant Fellowship News - ECPv6.8.3//NONSGML v1.0//EN
CALSCALE:GREGORIAN
METHOD:PUBLISH
X-ORIGINAL-URL:https://www.remnantfellowshipnews.com
X-WR-CALDESC:Events for Remnant Fellowship News
REFRESH-INTERVAL;VALUE=DURATION:PT1H
X-Robots-Tag:noindex
X-PUBLISHED-TTL:PT1H
BEGIN:VTIMEZONE
TZID:America/Chicago
BEGIN:DAYLIGHT
TZOFFSETFROM:-0600
TZOFFSETTO:-0500
TZNAME:CDT
DTSTART:20240310T080000
END:DAYLIGHT
BEGIN:STANDARD
TZOFFSETFROM:-0500
TZOFFSETTO:-0600
TZNAME:CST
DTSTART:20241103T070000
END:STANDARD
END:VTIMEZONE
BEGIN:VEVENT
DTSTART;VALUE=DATE:20241031
DTEND;VALUE=DATE:20241101
DTSTAMP:20260420T183757
CREATED:20231206T221104Z
LAST-MODIFIED:20231206T221104Z
UID:27453-1730332800-1730419199@www.remnantfellowshipnews.com
SUMMARY:29th of Harvest
DESCRIPTION:
URL:https://www.remnantfellowshipnews.com/event/29th-of-harvest-2/
LOCATION:TN
CATEGORIES:Hebrew Calendar
END:VEVENT
BEGIN:VEVENT
DTSTART;TZID=America/Chicago:20241031T180000
DTEND;TZID=America/Chicago:20241031T193000
DTSTAMP:20260420T183757
CREATED:20241022T191635Z
LAST-MODIFIED:20241025T203409Z
UID:27832-1730397600-1730403000@www.remnantfellowshipnews.com
SUMMARY:Concert Evening Assembly and Webcast
DESCRIPTION:Join us locally at 6:00pm for our Assembly.
URL:https://www.remnantfellowshipnews.com/event/wednesday-evening-assembly-and-webcast-170/
LOCATION:Remnant Fellowship Church\, 1230 Franklin Rd\, Brentwood\, TN\, 37027
CATEGORIES:Assemblies
END:VEVENT
END:VCALENDAR