BEGIN:VCALENDAR
VERSION:2.0
PRODID:-//Remnant Fellowship News - ECPv6.8.3//NONSGML v1.0//EN
CALSCALE:GREGORIAN
METHOD:PUBLISH
X-WR-CALNAME:Remnant Fellowship News
X-ORIGINAL-URL:https://www.remnantfellowshipnews.com
X-WR-CALDESC:Events for Remnant Fellowship News
REFRESH-INTERVAL;VALUE=DURATION:PT1H
X-Robots-Tag:noindex
X-PUBLISHED-TTL:PT1H
BEGIN:VTIMEZONE
TZID:America/Chicago
BEGIN:DAYLIGHT
TZOFFSETFROM:-0600
TZOFFSETTO:-0500
TZNAME:CDT
DTSTART:20240310T080000
END:DAYLIGHT
BEGIN:STANDARD
TZOFFSETFROM:-0500
TZOFFSETTO:-0600
TZNAME:CST
DTSTART:20241103T070000
END:STANDARD
END:VTIMEZONE
BEGIN:VEVENT
DTSTART;VALUE=DATE:20241102
DTEND;VALUE=DATE:20241103
DTSTAMP:20260420T183450
CREATED:20231206T221118Z
LAST-MODIFIED:20231206T221118Z
UID:27455-1730505600-1730591999@www.remnantfellowshipnews.com
SUMMARY:1st of Dedication
DESCRIPTION:
URL:https://www.remnantfellowshipnews.com/event/1st-of-dedication-2/
LOCATION:TN
CATEGORIES:Hebrew Calendar
END:VEVENT
BEGIN:VEVENT
DTSTART;TZID=America/Chicago:20241102T173000
DTEND;TZID=America/Chicago:20241102T190000
DTSTAMP:20260420T183450
CREATED:20241022T191056Z
LAST-MODIFIED:20241022T191056Z
UID:27828-1730568600-1730574000@www.remnantfellowshipnews.com
SUMMARY:Sabbath Evening Assembly
DESCRIPTION:Join us locally at 5:30pm for our Assembly.
URL:https://www.remnantfellowshipnews.com/event/sabbath-evening-assembly-15/
LOCATION:Remnant Fellowship Church\, 1230 Franklin Rd\, Brentwood\, TN\, 37027
CATEGORIES:Assemblies
END:VEVENT
END:VCALENDAR