BEGIN:VCALENDAR
VERSION:2.0
PRODID:-//Remnant Fellowship News - ECPv6.8.3//NONSGML v1.0//EN
CALSCALE:GREGORIAN
METHOD:PUBLISH
X-ORIGINAL-URL:https://www.remnantfellowshipnews.com
X-WR-CALDESC:Events for Remnant Fellowship News
REFRESH-INTERVAL;VALUE=DURATION:PT1H
X-Robots-Tag:noindex
X-PUBLISHED-TTL:PT1H
BEGIN:VTIMEZONE
TZID:America/Chicago
BEGIN:DAYLIGHT
TZOFFSETFROM:-0600
TZOFFSETTO:-0500
TZNAME:CDT
DTSTART:20240310T080000
END:DAYLIGHT
BEGIN:STANDARD
TZOFFSETFROM:-0500
TZOFFSETTO:-0600
TZNAME:CST
DTSTART:20241103T070000
END:STANDARD
END:VTIMEZONE
BEGIN:VEVENT
DTSTART;VALUE=DATE:20241224
DTEND;VALUE=DATE:20241225
DTSTAMP:20260421T155450
CREATED:20231206T221349Z
LAST-MODIFIED:20231206T221349Z
UID:27507-1734998400-1735084799@www.remnantfellowshipnews.com
SUMMARY:23rd of Celebration
DESCRIPTION:
URL:https://www.remnantfellowshipnews.com/event/23rd-of-celebration-2/
CATEGORIES:Hebrew Calendar
END:VEVENT
BEGIN:VEVENT
DTSTART;VALUE=DATE:20241223
DTEND;VALUE=DATE:20241224
DTSTAMP:20260421T155450
CREATED:20231206T221349Z
LAST-MODIFIED:20231206T221349Z
UID:27506-1734912000-1734998399@www.remnantfellowshipnews.com
SUMMARY:22nd of Celebration
DESCRIPTION:
URL:https://www.remnantfellowshipnews.com/event/22nd-of-celebration-2/
CATEGORIES:Hebrew Calendar
END:VEVENT
BEGIN:VEVENT
DTSTART;VALUE=DATE:20241222
DTEND;VALUE=DATE:20241223
DTSTAMP:20260421T155450
CREATED:20231206T221348Z
LAST-MODIFIED:20231206T221348Z
UID:27505-1734825600-1734911999@www.remnantfellowshipnews.com
SUMMARY:21st of Celebration
DESCRIPTION:
URL:https://www.remnantfellowshipnews.com/event/21st-of-celebration-2/
CATEGORIES:Hebrew Calendar
END:VEVENT
BEGIN:VEVENT
DTSTART;VALUE=DATE:20241221
DTEND;VALUE=DATE:20241222
DTSTAMP:20260421T155450
CREATED:20231206T221348Z
LAST-MODIFIED:20231206T221348Z
UID:27504-1734739200-1734825599@www.remnantfellowshipnews.com
SUMMARY:20th of Celebration
DESCRIPTION:
URL:https://www.remnantfellowshipnews.com/event/20th-of-celebration-2/
CATEGORIES:Hebrew Calendar
END:VEVENT
BEGIN:VEVENT
DTSTART;VALUE=DATE:20241220
DTEND;VALUE=DATE:20241221
DTSTAMP:20260421T155450
CREATED:20231206T221334Z
LAST-MODIFIED:20231206T221334Z
UID:27503-1734652800-1734739199@www.remnantfellowshipnews.com
SUMMARY:19th of Celebration
DESCRIPTION:
URL:https://www.remnantfellowshipnews.com/event/19th-of-celebration-2/
CATEGORIES:Hebrew Calendar
END:VEVENT
BEGIN:VEVENT
DTSTART;VALUE=DATE:20241219
DTEND;VALUE=DATE:20241220
DTSTAMP:20260421T155450
CREATED:20231206T221334Z
LAST-MODIFIED:20231206T221334Z
UID:27502-1734566400-1734652799@www.remnantfellowshipnews.com
SUMMARY:18th of Celebration
DESCRIPTION:
URL:https://www.remnantfellowshipnews.com/event/18th-of-celebration-2/
CATEGORIES:Hebrew Calendar
END:VEVENT
BEGIN:VEVENT
DTSTART;VALUE=DATE:20241218
DTEND;VALUE=DATE:20241219
DTSTAMP:20260421T155450
CREATED:20231206T221334Z
LAST-MODIFIED:20231206T221334Z
UID:27501-1734480000-1734566399@www.remnantfellowshipnews.com
SUMMARY:17th of Celebration
DESCRIPTION:
URL:https://www.remnantfellowshipnews.com/event/17th-of-celebration-2/
CATEGORIES:Hebrew Calendar
END:VEVENT
BEGIN:VEVENT
DTSTART;VALUE=DATE:20241217
DTEND;VALUE=DATE:20241218
DTSTAMP:20260421T155450
CREATED:20231206T221333Z
LAST-MODIFIED:20231206T221333Z
UID:27500-1734393600-1734479999@www.remnantfellowshipnews.com
SUMMARY:16th of Celebration
DESCRIPTION:
URL:https://www.remnantfellowshipnews.com/event/16th-of-celebration-2/
CATEGORIES:Hebrew Calendar
END:VEVENT
BEGIN:VEVENT
DTSTART;VALUE=DATE:20241216
DTEND;VALUE=DATE:20241217
DTSTAMP:20260421T155450
CREATED:20231206T221333Z
LAST-MODIFIED:20231206T221333Z
UID:27499-1734307200-1734393599@www.remnantfellowshipnews.com
SUMMARY:15th of Celebration
DESCRIPTION:
URL:https://www.remnantfellowshipnews.com/event/15th-of-celebration-2/
CATEGORIES:Hebrew Calendar
END:VEVENT
BEGIN:VEVENT
DTSTART;VALUE=DATE:20241215
DTEND;VALUE=DATE:20241216
DTSTAMP:20260421T155450
CREATED:20231206T221319Z
LAST-MODIFIED:20231206T221319Z
UID:27498-1734220800-1734307199@www.remnantfellowshipnews.com
SUMMARY:14th of Celebration
DESCRIPTION:
URL:https://www.remnantfellowshipnews.com/event/14th-of-celebration-2/
CATEGORIES:Hebrew Calendar
END:VEVENT
BEGIN:VEVENT
DTSTART;VALUE=DATE:20241214
DTEND;VALUE=DATE:20241215
DTSTAMP:20260421T155450
CREATED:20231206T221319Z
LAST-MODIFIED:20231206T221319Z
UID:27497-1734134400-1734220799@www.remnantfellowshipnews.com
SUMMARY:13th of Celebration
DESCRIPTION:
URL:https://www.remnantfellowshipnews.com/event/13th-of-celebration-2/
CATEGORIES:Hebrew Calendar
END:VEVENT
BEGIN:VEVENT
DTSTART;VALUE=DATE:20241213
DTEND;VALUE=DATE:20241214
DTSTAMP:20260421T155450
CREATED:20231206T221319Z
LAST-MODIFIED:20231206T221319Z
UID:27496-1734048000-1734134399@www.remnantfellowshipnews.com
SUMMARY:12th of Celebration
DESCRIPTION:
URL:https://www.remnantfellowshipnews.com/event/12th-of-celebration-2/
CATEGORIES:Hebrew Calendar
END:VEVENT
BEGIN:VEVENT
DTSTART;VALUE=DATE:20241212
DTEND;VALUE=DATE:20241213
DTSTAMP:20260421T155450
CREATED:20231206T221318Z
LAST-MODIFIED:20231206T221318Z
UID:27495-1733961600-1734047999@www.remnantfellowshipnews.com
SUMMARY:11th of Celebration
DESCRIPTION:
URL:https://www.remnantfellowshipnews.com/event/11th-of-celebration-2/
CATEGORIES:Hebrew Calendar
END:VEVENT
BEGIN:VEVENT
DTSTART;VALUE=DATE:20241211
DTEND;VALUE=DATE:20241212
DTSTAMP:20260421T155450
CREATED:20231206T221318Z
LAST-MODIFIED:20231206T221318Z
UID:27494-1733875200-1733961599@www.remnantfellowshipnews.com
SUMMARY:10th of Celebration
DESCRIPTION:
URL:https://www.remnantfellowshipnews.com/event/10th-of-celebration-2/
CATEGORIES:Hebrew Calendar
END:VEVENT
BEGIN:VEVENT
DTSTART;VALUE=DATE:20241210
DTEND;VALUE=DATE:20241211
DTSTAMP:20260421T155450
CREATED:20231206T221304Z
LAST-MODIFIED:20231206T221304Z
UID:27493-1733788800-1733875199@www.remnantfellowshipnews.com
SUMMARY:9th of Celebration
DESCRIPTION:
URL:https://www.remnantfellowshipnews.com/event/9th-of-celebration-2/
CATEGORIES:Hebrew Calendar
END:VEVENT
BEGIN:VEVENT
DTSTART;VALUE=DATE:20241209
DTEND;VALUE=DATE:20241210
DTSTAMP:20260421T155450
CREATED:20231206T221304Z
LAST-MODIFIED:20231206T221304Z
UID:27492-1733702400-1733788799@www.remnantfellowshipnews.com
SUMMARY:8th of Celebration
DESCRIPTION:
URL:https://www.remnantfellowshipnews.com/event/8th-of-celebration-2/
CATEGORIES:Hebrew Calendar
END:VEVENT
BEGIN:VEVENT
DTSTART;VALUE=DATE:20241208
DTEND;VALUE=DATE:20241209
DTSTAMP:20260421T155450
CREATED:20231206T221303Z
LAST-MODIFIED:20231206T221303Z
UID:27491-1733616000-1733702399@www.remnantfellowshipnews.com
SUMMARY:7th of Celebration
DESCRIPTION:
URL:https://www.remnantfellowshipnews.com/event/7th-of-celebration-2/
CATEGORIES:Hebrew Calendar
END:VEVENT
BEGIN:VEVENT
DTSTART;VALUE=DATE:20241207
DTEND;VALUE=DATE:20241208
DTSTAMP:20260421T155450
CREATED:20231206T221303Z
LAST-MODIFIED:20231206T221303Z
UID:27490-1733529600-1733615999@www.remnantfellowshipnews.com
SUMMARY:6th of Celebration
DESCRIPTION:
URL:https://www.remnantfellowshipnews.com/event/6th-of-celebration-2/
CATEGORIES:Hebrew Calendar
END:VEVENT
BEGIN:VEVENT
DTSTART;VALUE=DATE:20241206
DTEND;VALUE=DATE:20241207
DTSTAMP:20260421T155450
CREATED:20231206T221303Z
LAST-MODIFIED:20231206T221303Z
UID:27489-1733443200-1733529599@www.remnantfellowshipnews.com
SUMMARY:5th of Celebration
DESCRIPTION:
URL:https://www.remnantfellowshipnews.com/event/5th-of-celebration-2/
CATEGORIES:Hebrew Calendar
END:VEVENT
BEGIN:VEVENT
DTSTART;VALUE=DATE:20241205
DTEND;VALUE=DATE:20241206
DTSTAMP:20260421T155450
CREATED:20231206T221249Z
LAST-MODIFIED:20231206T221249Z
UID:27488-1733356800-1733443199@www.remnantfellowshipnews.com
SUMMARY:4th of Celebration
DESCRIPTION:
URL:https://www.remnantfellowshipnews.com/event/4th-of-celebration-2/
CATEGORIES:Hebrew Calendar
END:VEVENT
BEGIN:VEVENT
DTSTART;VALUE=DATE:20241204
DTEND;VALUE=DATE:20241205
DTSTAMP:20260421T155450
CREATED:20231206T221249Z
LAST-MODIFIED:20231206T221249Z
UID:27487-1733270400-1733356799@www.remnantfellowshipnews.com
SUMMARY:3rd of Celebration
DESCRIPTION:
URL:https://www.remnantfellowshipnews.com/event/3rd-of-celebration-2/
CATEGORIES:Hebrew Calendar
END:VEVENT
BEGIN:VEVENT
DTSTART;VALUE=DATE:20241203
DTEND;VALUE=DATE:20241204
DTSTAMP:20260421T155450
CREATED:20231206T221248Z
LAST-MODIFIED:20231206T221248Z
UID:27486-1733184000-1733270399@www.remnantfellowshipnews.com
SUMMARY:2nd of Celebration
DESCRIPTION:
URL:https://www.remnantfellowshipnews.com/event/2nd-of-celebration-2/
CATEGORIES:Hebrew Calendar
END:VEVENT
BEGIN:VEVENT
DTSTART;VALUE=DATE:20241202
DTEND;VALUE=DATE:20241203
DTSTAMP:20260421T155450
CREATED:20231206T221248Z
LAST-MODIFIED:20231206T221248Z
UID:27485-1733097600-1733183999@www.remnantfellowshipnews.com
SUMMARY:1st of Celebration
DESCRIPTION:
URL:https://www.remnantfellowshipnews.com/event/1st-of-celebration-2/
CATEGORIES:Hebrew Calendar
END:VEVENT
BEGIN:VEVENT
DTSTART;VALUE=DATE:20241201
DTEND;VALUE=DATE:20241202
DTSTAMP:20260421T155450
CREATED:20231206T221248Z
LAST-MODIFIED:20231206T221248Z
UID:27484-1733011200-1733097599@www.remnantfellowshipnews.com
SUMMARY:30th of Dedication
DESCRIPTION:
URL:https://www.remnantfellowshipnews.com/event/30th-of-dedication/
CATEGORIES:Hebrew Calendar
END:VEVENT
BEGIN:VEVENT
DTSTART;VALUE=DATE:20241130
DTEND;VALUE=DATE:20241201
DTSTAMP:20260421T155450
CREATED:20231206T221234Z
LAST-MODIFIED:20231206T221234Z
UID:27483-1732924800-1733011199@www.remnantfellowshipnews.com
SUMMARY:29th of Dedication
DESCRIPTION:
URL:https://www.remnantfellowshipnews.com/event/29th-of-dedication-2/
CATEGORIES:Hebrew Calendar
END:VEVENT
BEGIN:VEVENT
DTSTART;VALUE=DATE:20241129
DTEND;VALUE=DATE:20241130
DTSTAMP:20260421T155450
CREATED:20231206T221234Z
LAST-MODIFIED:20231206T221234Z
UID:27482-1732838400-1732924799@www.remnantfellowshipnews.com
SUMMARY:28th of Dedication
DESCRIPTION:
URL:https://www.remnantfellowshipnews.com/event/28th-of-dedication-2/
CATEGORIES:Hebrew Calendar
END:VEVENT
BEGIN:VEVENT
DTSTART;VALUE=DATE:20241128
DTEND;VALUE=DATE:20241129
DTSTAMP:20260421T155450
CREATED:20231206T221233Z
LAST-MODIFIED:20231206T221233Z
UID:27481-1732752000-1732838399@www.remnantfellowshipnews.com
SUMMARY:27th of Dedication
DESCRIPTION:
URL:https://www.remnantfellowshipnews.com/event/27th-of-dedication-2/
CATEGORIES:Hebrew Calendar
END:VEVENT
BEGIN:VEVENT
DTSTART;VALUE=DATE:20241127
DTEND;VALUE=DATE:20241128
DTSTAMP:20260421T155450
CREATED:20231206T221233Z
LAST-MODIFIED:20231206T221233Z
UID:27480-1732665600-1732751999@www.remnantfellowshipnews.com
SUMMARY:26th of Dedication
DESCRIPTION:
URL:https://www.remnantfellowshipnews.com/event/26th-of-dedication-2/
CATEGORIES:Hebrew Calendar
END:VEVENT
BEGIN:VEVENT
DTSTART;VALUE=DATE:20241126
DTEND;VALUE=DATE:20241127
DTSTAMP:20260421T155450
CREATED:20231206T221233Z
LAST-MODIFIED:20231206T221233Z
UID:27479-1732579200-1732665599@www.remnantfellowshipnews.com
SUMMARY:25th of Dedication
DESCRIPTION:
URL:https://www.remnantfellowshipnews.com/event/25th-of-dedication-2/
CATEGORIES:Hebrew Calendar
END:VEVENT
BEGIN:VEVENT
DTSTART;VALUE=DATE:20241125
DTEND;VALUE=DATE:20241126
DTSTAMP:20260421T155450
CREATED:20231206T221219Z
LAST-MODIFIED:20231206T221219Z
UID:27478-1732492800-1732579199@www.remnantfellowshipnews.com
SUMMARY:24th of Dedication
DESCRIPTION:
URL:https://www.remnantfellowshipnews.com/event/24th-of-dedication-2/
CATEGORIES:Hebrew Calendar
END:VEVENT
END:VCALENDAR