BEGIN:VCALENDAR
VERSION:2.0
PRODID:-//Remnant Fellowship News - ECPv6.8.3//NONSGML v1.0//EN
CALSCALE:GREGORIAN
METHOD:PUBLISH
X-ORIGINAL-URL:https://www.remnantfellowshipnews.com
X-WR-CALDESC:Events for Remnant Fellowship News
REFRESH-INTERVAL;VALUE=DURATION:PT1H
X-Robots-Tag:noindex
X-PUBLISHED-TTL:PT1H
BEGIN:VTIMEZONE
TZID:America/Chicago
BEGIN:DAYLIGHT
TZOFFSETFROM:-0600
TZOFFSETTO:-0500
TZNAME:CDT
DTSTART:20230312T080000
END:DAYLIGHT
BEGIN:STANDARD
TZOFFSETFROM:-0500
TZOFFSETTO:-0600
TZNAME:CST
DTSTART:20231105T070000
END:STANDARD
END:VTIMEZONE
BEGIN:VEVENT
DTSTART;VALUE=DATE:20230331
DTEND;VALUE=DATE:20230401
DTSTAMP:20260420T233805
CREATED:20221213T221012Z
LAST-MODIFIED:20221213T221012Z
UID:26437-1680220800-1680307199@www.remnantfellowshipnews.com
SUMMARY:9th of Passover
DESCRIPTION:
URL:https://www.remnantfellowshipnews.com/event/9th-of-passover-4/
LOCATION:TN
CATEGORIES:Hebrew Calendar
END:VEVENT
BEGIN:VEVENT
DTSTART;VALUE=DATE:20230401
DTEND;VALUE=DATE:20230402
DTSTAMP:20260420T233805
CREATED:20221213T221012Z
LAST-MODIFIED:20221213T221012Z
UID:26438-1680307200-1680393599@www.remnantfellowshipnews.com
SUMMARY:10th of Passover
DESCRIPTION:
URL:https://www.remnantfellowshipnews.com/event/10th-of-passover-4/
LOCATION:TN
CATEGORIES:Hebrew Calendar
END:VEVENT
BEGIN:VEVENT
DTSTART;TZID=America/Chicago:20230401T173000
DTEND;TZID=America/Chicago:20230401T190000
DTSTAMP:20260420T233805
CREATED:20220822T184331Z
LAST-MODIFIED:20230330T155301Z
UID:25752-1680370200-1680375600@www.remnantfellowshipnews.com
SUMMARY:Palm Sabbath 2023
DESCRIPTION:Join us at 5:30pm Central Time for our Palm Sabbath Assembly.
URL:https://www.remnantfellowshipnews.com/event/palm-sabbath-2023/
LOCATION:Remnant Fellowship Church\, 1230 Franklin Rd\, Brentwood\, TN\, 37027
CATEGORIES:Assemblies,Festivals and National Events
END:VEVENT
BEGIN:VEVENT
DTSTART;VALUE=DATE:20230402
DTEND;VALUE=DATE:20230403
DTSTAMP:20260420T233805
CREATED:20221213T221025Z
LAST-MODIFIED:20221213T221025Z
UID:26439-1680393600-1680479999@www.remnantfellowshipnews.com
SUMMARY:11th of Passover
DESCRIPTION:
URL:https://www.remnantfellowshipnews.com/event/11th-of-passover-4/
LOCATION:TN
CATEGORIES:Hebrew Calendar
END:VEVENT
BEGIN:VEVENT
DTSTART;VALUE=DATE:20230403
DTEND;VALUE=DATE:20230404
DTSTAMP:20260420T233805
CREATED:20221213T221025Z
LAST-MODIFIED:20221213T221025Z
UID:26440-1680480000-1680566399@www.remnantfellowshipnews.com
SUMMARY:12th of Passover
DESCRIPTION:
URL:https://www.remnantfellowshipnews.com/event/12th-of-passover-4/
LOCATION:TN
CATEGORIES:Hebrew Calendar
END:VEVENT
BEGIN:VEVENT
DTSTART;VALUE=DATE:20230404
DTEND;VALUE=DATE:20230405
DTSTAMP:20260420T233805
CREATED:20221213T221026Z
LAST-MODIFIED:20221213T221026Z
UID:26441-1680566400-1680652799@www.remnantfellowshipnews.com
SUMMARY:13th of Passover
DESCRIPTION:
URL:https://www.remnantfellowshipnews.com/event/13th-of-passover-4/
LOCATION:TN
CATEGORIES:Hebrew Calendar
END:VEVENT
BEGIN:VEVENT
DTSTART;VALUE=DATE:20230405
DTEND;VALUE=DATE:20230406
DTSTAMP:20260420T233805
CREATED:20221213T221026Z
LAST-MODIFIED:20221213T221026Z
UID:26442-1680652800-1680739199@www.remnantfellowshipnews.com
SUMMARY:14th of Passover
DESCRIPTION:
URL:https://www.remnantfellowshipnews.com/event/14th-of-passover-4/
LOCATION:TN
CATEGORIES:Hebrew Calendar
END:VEVENT
BEGIN:VEVENT
DTSTART;TZID=America/Chicago:20230405T180000
DTEND;TZID=America/Chicago:20230405T193000
DTSTAMP:20260420T233805
CREATED:20230330T155553Z
LAST-MODIFIED:20230330T155610Z
UID:26875-1680717600-1680723000@www.remnantfellowshipnews.com
SUMMARY:Wednesday Evening Assembly and Webcast
DESCRIPTION:Join us locally at 6:00pm for our Assembly.
URL:https://www.remnantfellowshipnews.com/event/wednesday-evening-assembly-and-webcast-105/
LOCATION:Remnant Fellowship Church\, 1230 Franklin Rd\, Brentwood\, TN\, 37027
CATEGORIES:Assemblies
END:VEVENT
BEGIN:VEVENT
DTSTART;VALUE=DATE:20230406
DTEND;VALUE=DATE:20230407
DTSTAMP:20260420T233805
CREATED:20221213T221026Z
LAST-MODIFIED:20221213T221026Z
UID:26443-1680739200-1680825599@www.remnantfellowshipnews.com
SUMMARY:15th of Passover
DESCRIPTION:
URL:https://www.remnantfellowshipnews.com/event/15th-of-passover-4/
LOCATION:TN
CATEGORIES:Hebrew Calendar
END:VEVENT
BEGIN:VEVENT
DTSTART;VALUE=DATE:20230406
DTEND;VALUE=DATE:20230410
DTSTAMP:20260420T233805
CREATED:20220822T184219Z
LAST-MODIFIED:20220822T184219Z
UID:25749-1680739200-1681084799@www.remnantfellowshipnews.com
SUMMARY:Passover Weekend 2023
DESCRIPTION:Our Passover Weekend will last from April 6th-9th.  Please watch your e-mails for details!
URL:https://www.remnantfellowshipnews.com/event/passover-weekend-2023/
LOCATION:Remnant Fellowship Church\, 1230 Franklin Rd\, Brentwood\, TN\, 37027
CATEGORIES:Festivals and National Events
ATTACH;FMTTYPE=image/jpeg:https://www.remnantfellowshipnews.com/wp-content/uploads/2016/03/Passover-Logo_2014-slide.jpg
END:VEVENT
BEGIN:VEVENT
DTSTART;VALUE=DATE:20230407
DTEND;VALUE=DATE:20230408
DTSTAMP:20260420T233805
CREATED:20221213T221040Z
LAST-MODIFIED:20221213T221040Z
UID:26444-1680825600-1680911999@www.remnantfellowshipnews.com
SUMMARY:16th of Passover
DESCRIPTION:
URL:https://www.remnantfellowshipnews.com/event/16th-of-passover-4/
LOCATION:TN
CATEGORIES:Hebrew Calendar
END:VEVENT
BEGIN:VEVENT
DTSTART;VALUE=DATE:20230408
DTEND;VALUE=DATE:20230409
DTSTAMP:20260420T233805
CREATED:20221213T221040Z
LAST-MODIFIED:20221213T221040Z
UID:26445-1680912000-1680998399@www.remnantfellowshipnews.com
SUMMARY:17th of Passover
DESCRIPTION:
URL:https://www.remnantfellowshipnews.com/event/17th-of-passover-4/
LOCATION:TN
CATEGORIES:Hebrew Calendar
END:VEVENT
BEGIN:VEVENT
DTSTART;VALUE=DATE:20230409
DTEND;VALUE=DATE:20230410
DTSTAMP:20260420T233805
CREATED:20221213T221041Z
LAST-MODIFIED:20221213T221041Z
UID:26446-1680998400-1681084799@www.remnantfellowshipnews.com
SUMMARY:18th of Passover
DESCRIPTION:
URL:https://www.remnantfellowshipnews.com/event/18th-of-passover-4/
LOCATION:TN
CATEGORIES:Hebrew Calendar
END:VEVENT
BEGIN:VEVENT
DTSTART;VALUE=DATE:20230410
DTEND;VALUE=DATE:20230411
DTSTAMP:20260420T233805
CREATED:20221213T221041Z
LAST-MODIFIED:20221213T221041Z
UID:26447-1681084800-1681171199@www.remnantfellowshipnews.com
SUMMARY:19th of Passover
DESCRIPTION:
URL:https://www.remnantfellowshipnews.com/event/19th-of-passover-4/
LOCATION:TN
CATEGORIES:Hebrew Calendar
END:VEVENT
BEGIN:VEVENT
DTSTART;VALUE=DATE:20230411
DTEND;VALUE=DATE:20230412
DTSTAMP:20260420T233805
CREATED:20221213T221041Z
LAST-MODIFIED:20221213T221041Z
UID:26448-1681171200-1681257599@www.remnantfellowshipnews.com
SUMMARY:20th of Passover
DESCRIPTION:
URL:https://www.remnantfellowshipnews.com/event/20th-of-passover-4/
LOCATION:TN
CATEGORIES:Hebrew Calendar
END:VEVENT
BEGIN:VEVENT
DTSTART;VALUE=DATE:20230412
DTEND;VALUE=DATE:20230413
DTSTAMP:20260420T233805
CREATED:20221213T221055Z
LAST-MODIFIED:20221213T221055Z
UID:26449-1681257600-1681343999@www.remnantfellowshipnews.com
SUMMARY:21st of Passover
DESCRIPTION:
URL:https://www.remnantfellowshipnews.com/event/21st-of-passover-4/
LOCATION:TN
CATEGORIES:Hebrew Calendar
END:VEVENT
BEGIN:VEVENT
DTSTART;VALUE=DATE:20230413
DTEND;VALUE=DATE:20230414
DTSTAMP:20260420T233805
CREATED:20221213T221055Z
LAST-MODIFIED:20221213T221055Z
UID:26450-1681344000-1681430399@www.remnantfellowshipnews.com
SUMMARY:22nd of Passover
DESCRIPTION:
URL:https://www.remnantfellowshipnews.com/event/22nd-of-passover-4/
LOCATION:TN
CATEGORIES:Hebrew Calendar
END:VEVENT
BEGIN:VEVENT
DTSTART;VALUE=DATE:20230414
DTEND;VALUE=DATE:20230415
DTSTAMP:20260420T233805
CREATED:20221213T221056Z
LAST-MODIFIED:20221213T221056Z
UID:26451-1681430400-1681516799@www.remnantfellowshipnews.com
SUMMARY:23rd of Passover
DESCRIPTION:
URL:https://www.remnantfellowshipnews.com/event/23rd-of-passover-4/
LOCATION:TN
CATEGORIES:Hebrew Calendar
END:VEVENT
BEGIN:VEVENT
DTSTART;VALUE=DATE:20230415
DTEND;VALUE=DATE:20230416
DTSTAMP:20260420T233805
CREATED:20221213T221056Z
LAST-MODIFIED:20221213T221056Z
UID:26452-1681516800-1681603199@www.remnantfellowshipnews.com
SUMMARY:24th of Passover
DESCRIPTION:
URL:https://www.remnantfellowshipnews.com/event/24th-of-passover-4/
LOCATION:TN
CATEGORIES:Hebrew Calendar
END:VEVENT
BEGIN:VEVENT
DTSTART;TZID=America/Chicago:20230415T173000
DTEND;TZID=America/Chicago:20230415T190000
DTSTAMP:20260420T233805
CREATED:20230330T155839Z
LAST-MODIFIED:20230330T155839Z
UID:26881-1681579800-1681585200@www.remnantfellowshipnews.com
SUMMARY:Sabbath Evening Assembly and Webcast
DESCRIPTION:Join us locally at 5:30pm for our Assembly.
URL:https://www.remnantfellowshipnews.com/event/sabbath-evening-assembly-and-webcast-24/
LOCATION:Remnant Fellowship Church\, 1230 Franklin Rd\, Brentwood\, TN\, 37027
CATEGORIES:Assemblies
END:VEVENT
BEGIN:VEVENT
DTSTART;VALUE=DATE:20230416
DTEND;VALUE=DATE:20230417
DTSTAMP:20260420T233805
CREATED:20221213T221056Z
LAST-MODIFIED:20221213T221056Z
UID:26453-1681603200-1681689599@www.remnantfellowshipnews.com
SUMMARY:25th of Passover
DESCRIPTION:
URL:https://www.remnantfellowshipnews.com/event/25th-of-passover-4/
LOCATION:TN
CATEGORIES:Hebrew Calendar
END:VEVENT
BEGIN:VEVENT
DTSTART;VALUE=DATE:20230417
DTEND;VALUE=DATE:20230418
DTSTAMP:20260420T233805
CREATED:20221213T221110Z
LAST-MODIFIED:20221213T221110Z
UID:26454-1681689600-1681775999@www.remnantfellowshipnews.com
SUMMARY:26th of Passover
DESCRIPTION:
URL:https://www.remnantfellowshipnews.com/event/26th-of-passover-4/
LOCATION:TN
CATEGORIES:Hebrew Calendar
END:VEVENT
BEGIN:VEVENT
DTSTART;VALUE=DATE:20230418
DTEND;VALUE=DATE:20230419
DTSTAMP:20260420T233805
CREATED:20221213T221110Z
LAST-MODIFIED:20221213T221110Z
UID:26455-1681776000-1681862399@www.remnantfellowshipnews.com
SUMMARY:27th of Passover
DESCRIPTION:
URL:https://www.remnantfellowshipnews.com/event/27th-of-passover-4/
LOCATION:TN
CATEGORIES:Hebrew Calendar
END:VEVENT
BEGIN:VEVENT
DTSTART;VALUE=DATE:20230419
DTEND;VALUE=DATE:20230420
DTSTAMP:20260420T233805
CREATED:20221213T221111Z
LAST-MODIFIED:20221213T221111Z
UID:26456-1681862400-1681948799@www.remnantfellowshipnews.com
SUMMARY:28th of Passover
DESCRIPTION:
URL:https://www.remnantfellowshipnews.com/event/28th-of-passover-4/
LOCATION:TN
CATEGORIES:Hebrew Calendar
END:VEVENT
BEGIN:VEVENT
DTSTART;TZID=America/Chicago:20230419T180000
DTEND;TZID=America/Chicago:20230419T193000
DTSTAMP:20260420T233805
CREATED:20230330T155645Z
LAST-MODIFIED:20230330T155645Z
UID:26876-1681927200-1681932600@www.remnantfellowshipnews.com
SUMMARY:Wednesday Evening Assembly and Webcast
DESCRIPTION:Join us locally at 6:00pm for our Assembly.
URL:https://www.remnantfellowshipnews.com/event/wednesday-evening-assembly-and-webcast-107/
LOCATION:Remnant Fellowship Church\, 1230 Franklin Rd\, Brentwood\, TN\, 37027
CATEGORIES:Assemblies
END:VEVENT
BEGIN:VEVENT
DTSTART;VALUE=DATE:20230420
DTEND;VALUE=DATE:20230421
DTSTAMP:20260420T233805
CREATED:20221213T221111Z
LAST-MODIFIED:20221213T221111Z
UID:26457-1681948800-1682035199@www.remnantfellowshipnews.com
SUMMARY:29th of Passover
DESCRIPTION:
URL:https://www.remnantfellowshipnews.com/event/29th-of-passover-4/
LOCATION:TN
CATEGORIES:Hebrew Calendar
END:VEVENT
BEGIN:VEVENT
DTSTART;VALUE=DATE:20230421
DTEND;VALUE=DATE:20230422
DTSTAMP:20260420T233805
CREATED:20221213T221111Z
LAST-MODIFIED:20221213T221111Z
UID:26458-1682035200-1682121599@www.remnantfellowshipnews.com
SUMMARY:30th of Passover
DESCRIPTION:
URL:https://www.remnantfellowshipnews.com/event/30th-of-passover-4/
LOCATION:TN
CATEGORIES:Hebrew Calendar
END:VEVENT
BEGIN:VEVENT
DTSTART;VALUE=DATE:20230422
DTEND;VALUE=DATE:20230423
DTSTAMP:20260420T233805
CREATED:20221213T221125Z
LAST-MODIFIED:20221213T221125Z
UID:26459-1682121600-1682207999@www.remnantfellowshipnews.com
SUMMARY:1st of Revelation
DESCRIPTION:
URL:https://www.remnantfellowshipnews.com/event/1st-of-revelation/
LOCATION:TN
CATEGORIES:Hebrew Calendar
END:VEVENT
BEGIN:VEVENT
DTSTART;TZID=America/Chicago:20230422T173000
DTEND;TZID=America/Chicago:20230422T190000
DTSTAMP:20260420T233805
CREATED:20230330T155902Z
LAST-MODIFIED:20230330T155902Z
UID:26882-1682184600-1682190000@www.remnantfellowshipnews.com
SUMMARY:Sabbath Evening Assembly and Webcast
DESCRIPTION:Join us locally at 5:30pm for our Assembly.
URL:https://www.remnantfellowshipnews.com/event/sabbath-evening-assembly-and-webcast-25/
LOCATION:Remnant Fellowship Church\, 1230 Franklin Rd\, Brentwood\, TN\, 37027
CATEGORIES:Assemblies
END:VEVENT
BEGIN:VEVENT
DTSTART;VALUE=DATE:20230423
DTEND;VALUE=DATE:20230424
DTSTAMP:20260420T233805
CREATED:20221213T221125Z
LAST-MODIFIED:20221213T221125Z
UID:26460-1682208000-1682294399@www.remnantfellowshipnews.com
SUMMARY:2nd of Revelation
DESCRIPTION:
URL:https://www.remnantfellowshipnews.com/event/2nd-of-revelation/
LOCATION:TN
CATEGORIES:Hebrew Calendar
END:VEVENT
END:VCALENDAR