BEGIN:VCALENDAR
VERSION:2.0
PRODID:-//Remnant Fellowship News - ECPv6.8.3//NONSGML v1.0//EN
CALSCALE:GREGORIAN
METHOD:PUBLISH
X-ORIGINAL-URL:https://www.remnantfellowshipnews.com
X-WR-CALDESC:Events for Remnant Fellowship News
REFRESH-INTERVAL;VALUE=DURATION:PT1H
X-Robots-Tag:noindex
X-PUBLISHED-TTL:PT1H
BEGIN:VTIMEZONE
TZID:America/Chicago
BEGIN:DAYLIGHT
TZOFFSETFROM:-0600
TZOFFSETTO:-0500
TZNAME:CDT
DTSTART:20230312T080000
END:DAYLIGHT
BEGIN:STANDARD
TZOFFSETFROM:-0500
TZOFFSETTO:-0600
TZNAME:CST
DTSTART:20231105T070000
END:STANDARD
END:VTIMEZONE
BEGIN:VEVENT
DTSTART;VALUE=DATE:20230513
DTEND;VALUE=DATE:20230514
DTSTAMP:20260421T033949
CREATED:20221213T221225Z
LAST-MODIFIED:20221213T221225Z
UID:26480-1683936000-1684022399@www.remnantfellowshipnews.com
SUMMARY:22nd of Revelation
DESCRIPTION:
URL:https://www.remnantfellowshipnews.com/event/22nd-of-revelation/
LOCATION:TN
CATEGORIES:Hebrew Calendar
END:VEVENT
BEGIN:VEVENT
DTSTART;TZID=America/Chicago:20230513T093000
DTEND;TZID=America/Chicago:20230513T110000
DTSTAMP:20260421T033949
CREATED:20220822T184010Z
LAST-MODIFIED:20230510T015709Z
UID:25747-1683970200-1683975600@www.remnantfellowshipnews.com
SUMMARY:Graduation Assembly 2023
DESCRIPTION:GRADUATION for many of our High School and College-aged Saints is a wonderful accomplishment and milestone\, and it has always been important to us to recognize these Saints for how beautifully they are representing GOD\, Jesus Christ\, and this Church throughout their schooling and during this transition in their lives.  SO – on the Sabbath Day\, May 13th\, a segment of our Assembly will feature a time of HONORING these GRADUATES\, and we are excited to do so in a public way! Join us locally at 9:30am for our Assembly and webcast.
URL:https://www.remnantfellowshipnews.com/event/graduation-assembly-2023/
LOCATION:Remnant Fellowship Church\, 1230 Franklin Rd\, Brentwood\, TN\, 37027
CATEGORIES:Assemblies,Events
END:VEVENT
BEGIN:VEVENT
DTSTART;VALUE=DATE:20230514
DTEND;VALUE=DATE:20230515
DTSTAMP:20260421T033949
CREATED:20221213T221226Z
LAST-MODIFIED:20221213T221226Z
UID:26481-1684022400-1684108799@www.remnantfellowshipnews.com
SUMMARY:23rd of Revelation
DESCRIPTION:
URL:https://www.remnantfellowshipnews.com/event/23rd-of-revelation/
LOCATION:TN
CATEGORIES:Hebrew Calendar
END:VEVENT
BEGIN:VEVENT
DTSTART;TZID=America/Chicago:20230514T180000
DTEND;TZID=America/Chicago:20230514T203000
DTSTAMP:20260421T033949
CREATED:20230427T155256Z
LAST-MODIFIED:20230502T204950Z
UID:26903-1684087200-1684096200@www.remnantfellowshipnews.com
SUMMARY:Covenant Wedding Ceremony –  Azucena Gutierrez and Evan Jackson
DESCRIPTION:Join us for another beautiful Remnant Covenant Wedding Ceremony as  Azucena Gutierrez & Evan Jackson are united in marriage. The Wedding will take place on Sunday\, May 14th. This wedding is invitation only. \nFor more information on their wedding\, visit their wedding page HERE.
URL:https://www.remnantfellowshipnews.com/event/covenant-wedding-ceremony-azucena-gutierrez-and-evan-jackson/
LOCATION:TN
CATEGORIES:Covenant Wedding
ATTACH;FMTTYPE=image/jpeg:https://www.remnantfellowshipnews.com/wp-content/uploads/2023/04/Gutierrez-Jackson-Remnant-Fellowship-Wedding.jpg
END:VEVENT
BEGIN:VEVENT
DTSTART;VALUE=DATE:20230515
DTEND;VALUE=DATE:20230516
DTSTAMP:20260421T033949
CREATED:20221213T221226Z
LAST-MODIFIED:20221213T221226Z
UID:26482-1684108800-1684195199@www.remnantfellowshipnews.com
SUMMARY:24th of Revelation
DESCRIPTION:
URL:https://www.remnantfellowshipnews.com/event/24th-of-revelation/
LOCATION:TN
CATEGORIES:Hebrew Calendar
END:VEVENT
BEGIN:VEVENT
DTSTART;VALUE=DATE:20230516
DTEND;VALUE=DATE:20230517
DTSTAMP:20260421T033949
CREATED:20221213T221226Z
LAST-MODIFIED:20221213T221226Z
UID:26483-1684195200-1684281599@www.remnantfellowshipnews.com
SUMMARY:25th of Revelation
DESCRIPTION:
URL:https://www.remnantfellowshipnews.com/event/25th-of-revelation/
LOCATION:TN
CATEGORIES:Hebrew Calendar
END:VEVENT
BEGIN:VEVENT
DTSTART;VALUE=DATE:20230517
DTEND;VALUE=DATE:20230518
DTSTAMP:20260421T033949
CREATED:20221213T221240Z
LAST-MODIFIED:20221213T221240Z
UID:26484-1684281600-1684367999@www.remnantfellowshipnews.com
SUMMARY:26th of Revelation
DESCRIPTION:
URL:https://www.remnantfellowshipnews.com/event/26th-of-revelation/
LOCATION:TN
CATEGORIES:Hebrew Calendar
END:VEVENT
BEGIN:VEVENT
DTSTART;TZID=America/Chicago:20230517T180000
DTEND;TZID=America/Chicago:20230517T193000
DTSTAMP:20260421T033949
CREATED:20230502T205603Z
LAST-MODIFIED:20230502T205603Z
UID:26919-1684346400-1684351800@www.remnantfellowshipnews.com
SUMMARY:Wednesday Evening Assembly and Webcast
DESCRIPTION:Join us locally at 6:00pm for our Assembly.
URL:https://www.remnantfellowshipnews.com/event/wednesday-evening-assembly-and-webcast-112/
LOCATION:Remnant Fellowship Church\, 1230 Franklin Rd\, Brentwood\, TN\, 37027
CATEGORIES:Assemblies
END:VEVENT
BEGIN:VEVENT
DTSTART;VALUE=DATE:20230518
DTEND;VALUE=DATE:20230519
DTSTAMP:20260421T033949
CREATED:20221213T221240Z
LAST-MODIFIED:20221213T221240Z
UID:26485-1684368000-1684454399@www.remnantfellowshipnews.com
SUMMARY:27th of Revelation
DESCRIPTION:
URL:https://www.remnantfellowshipnews.com/event/27th-of-revelation/
LOCATION:TN
CATEGORIES:Hebrew Calendar
END:VEVENT
BEGIN:VEVENT
DTSTART;VALUE=DATE:20230519
DTEND;VALUE=DATE:20230520
DTSTAMP:20260421T033949
CREATED:20221213T221241Z
LAST-MODIFIED:20221213T221241Z
UID:26486-1684454400-1684540799@www.remnantfellowshipnews.com
SUMMARY:28th of Revelation
DESCRIPTION:
URL:https://www.remnantfellowshipnews.com/event/28th-of-revelation/
LOCATION:TN
CATEGORIES:Hebrew Calendar
END:VEVENT
BEGIN:VEVENT
DTSTART;VALUE=DATE:20230520
DTEND;VALUE=DATE:20230521
DTSTAMP:20260421T033949
CREATED:20221213T221241Z
LAST-MODIFIED:20221213T221241Z
UID:26487-1684540800-1684627199@www.remnantfellowshipnews.com
SUMMARY:29th of Revelation
DESCRIPTION:
URL:https://www.remnantfellowshipnews.com/event/29th-of-revelation/
LOCATION:TN
CATEGORIES:Hebrew Calendar
END:VEVENT
BEGIN:VEVENT
DTSTART;TZID=America/Chicago:20230520T093000
DTEND;TZID=America/Chicago:20230520T110000
DTSTAMP:20260421T033949
CREATED:20230502T205307Z
LAST-MODIFIED:20230502T205307Z
UID:26915-1684575000-1684580400@www.remnantfellowshipnews.com
SUMMARY:Sabbath Morning Assembly and Webcast
DESCRIPTION:Join us locally at 9:30am for our Assembly.
URL:https://www.remnantfellowshipnews.com/event/sabbath-morning-assembly-and-webcast-47/
LOCATION:Remnant Fellowship Church\, 1230 Franklin Rd\, Brentwood\, TN\, 37027
CATEGORIES:Assemblies
END:VEVENT
BEGIN:VEVENT
DTSTART;VALUE=DATE:20230521
DTEND;VALUE=DATE:20230522
DTSTAMP:20260421T033949
CREATED:20221213T221241Z
LAST-MODIFIED:20221213T221241Z
UID:26488-1684627200-1684713599@www.remnantfellowshipnews.com
SUMMARY:1st of Pentecost
DESCRIPTION:
URL:https://www.remnantfellowshipnews.com/event/1st-of-pentecost/
LOCATION:TN
CATEGORIES:Hebrew Calendar
END:VEVENT
BEGIN:VEVENT
DTSTART;TZID=America/Chicago:20230521T170000
DTEND;TZID=America/Chicago:20230521T193000
DTSTAMP:20260421T033949
CREATED:20221221T223849Z
LAST-MODIFIED:20221221T223849Z
UID:26731-1684688400-1684697400@www.remnantfellowshipnews.com
SUMMARY:Covenant Wedding Ceremony – Alexandria Neef and Cristhian Molina
DESCRIPTION:Join us for another beautiful Remnant Covenant Wedding Ceremony as  Alexandria Neef & Cristhian Molina  are united in marriage. The Wedding will take place on Sunday\, May 21st. This wedding is invitation only. \nFor more information on their wedding\, visit their wedding page HERE.
URL:https://www.remnantfellowshipnews.com/event/covenant-wedding-ceremony-alexandria-neef-and-cristhian-molina/
LOCATION:TN
CATEGORIES:Covenant Wedding
ATTACH;FMTTYPE=image/jpeg:https://www.remnantfellowshipnews.com/wp-content/uploads/2022/12/Neef-Molina-Remnant-Fellowship-Covenant-Wedding.jpg
END:VEVENT
BEGIN:VEVENT
DTSTART;VALUE=DATE:20230522
DTEND;VALUE=DATE:20230523
DTSTAMP:20260421T033949
CREATED:20221213T221256Z
LAST-MODIFIED:20221213T221256Z
UID:26489-1684713600-1684799999@www.remnantfellowshipnews.com
SUMMARY:2nd of Pentecost
DESCRIPTION:
URL:https://www.remnantfellowshipnews.com/event/2nd-of-pentecost/
LOCATION:TN
CATEGORIES:Hebrew Calendar
END:VEVENT
BEGIN:VEVENT
DTSTART;VALUE=DATE:20230523
DTEND;VALUE=DATE:20230524
DTSTAMP:20260421T033949
CREATED:20221213T221256Z
LAST-MODIFIED:20221213T221256Z
UID:26490-1684800000-1684886399@www.remnantfellowshipnews.com
SUMMARY:3rd of Pentecost
DESCRIPTION:
URL:https://www.remnantfellowshipnews.com/event/3rd-of-pentecost/
LOCATION:TN
CATEGORIES:Hebrew Calendar
END:VEVENT
BEGIN:VEVENT
DTSTART;VALUE=DATE:20230524
DTEND;VALUE=DATE:20230525
DTSTAMP:20260421T033949
CREATED:20221213T221256Z
LAST-MODIFIED:20221213T221256Z
UID:26491-1684886400-1684972799@www.remnantfellowshipnews.com
SUMMARY:4th of Pentecost
DESCRIPTION:
URL:https://www.remnantfellowshipnews.com/event/4th-of-pentecost/
LOCATION:TN
CATEGORIES:Hebrew Calendar
END:VEVENT
BEGIN:VEVENT
DTSTART;TZID=America/Chicago:20230524T180000
DTEND;TZID=America/Chicago:20230524T193000
DTSTAMP:20260421T033949
CREATED:20230502T205558Z
LAST-MODIFIED:20230502T205558Z
UID:26917-1684951200-1684956600@www.remnantfellowshipnews.com
SUMMARY:Wednesday Evening Assembly and Webcast
DESCRIPTION:Join us locally at 6:00pm for our Assembly.
URL:https://www.remnantfellowshipnews.com/event/wednesday-evening-assembly-and-webcast-111/
LOCATION:Remnant Fellowship Church\, 1230 Franklin Rd\, Brentwood\, TN\, 37027
CATEGORIES:Assemblies
END:VEVENT
BEGIN:VEVENT
DTSTART;VALUE=DATE:20230525
DTEND;VALUE=DATE:20230526
DTSTAMP:20260421T033949
CREATED:20221213T221256Z
LAST-MODIFIED:20221213T221256Z
UID:26492-1684972800-1685059199@www.remnantfellowshipnews.com
SUMMARY:5th of Pentecost
DESCRIPTION:
URL:https://www.remnantfellowshipnews.com/event/5th-of-pentecost/
LOCATION:TN
CATEGORIES:Hebrew Calendar
END:VEVENT
BEGIN:VEVENT
DTSTART;VALUE=DATE:20230526
DTEND;VALUE=DATE:20230527
DTSTAMP:20260421T033949
CREATED:20221213T221257Z
LAST-MODIFIED:20221213T221257Z
UID:26493-1685059200-1685145599@www.remnantfellowshipnews.com
SUMMARY:6th of Pentecost
DESCRIPTION:
URL:https://www.remnantfellowshipnews.com/event/6th-of-pentecost/
LOCATION:TN
CATEGORIES:Hebrew Calendar
END:VEVENT
BEGIN:VEVENT
DTSTART;VALUE=DATE:20230527
DTEND;VALUE=DATE:20230528
DTSTAMP:20260421T033949
CREATED:20221213T221311Z
LAST-MODIFIED:20221213T221311Z
UID:26494-1685145600-1685231999@www.remnantfellowshipnews.com
SUMMARY:7th of Pentecost
DESCRIPTION:
URL:https://www.remnantfellowshipnews.com/event/7th-of-pentecost/
LOCATION:TN
CATEGORIES:Hebrew Calendar
END:VEVENT
BEGIN:VEVENT
DTSTART;TZID=America/Chicago:20230527T163000
DTEND;TZID=America/Chicago:20230527T183000
DTSTAMP:20260421T033949
CREATED:20220822T183843Z
LAST-MODIFIED:20220822T183858Z
UID:25745-1685205000-1685212200@www.remnantfellowshipnews.com
SUMMARY:Pentecost Assembly 2023
DESCRIPTION:Join us as we observe the Lord’s Pentecost during our Sabbath Assembly on Saturday\, May 27th at 4:30pm. Please bring your Palm Branches to wave during our Worship Music time…as a “wave offering” to the Lord! \nFurther details about this day will follow in future e-mails to our Church Members.
URL:https://www.remnantfellowshipnews.com/event/pentecost-assembly-2023/
LOCATION:Remnant Fellowship Church\, 1230 Franklin Rd\, Brentwood\, TN\, 37027
CATEGORIES:Assemblies,Festivals and National Events
END:VEVENT
BEGIN:VEVENT
DTSTART;VALUE=DATE:20230528
DTEND;VALUE=DATE:20230529
DTSTAMP:20260421T033949
CREATED:20221213T221311Z
LAST-MODIFIED:20221213T221311Z
UID:26495-1685232000-1685318399@www.remnantfellowshipnews.com
SUMMARY:8th of Pentecost
DESCRIPTION:
URL:https://www.remnantfellowshipnews.com/event/8th-of-pentecost/
LOCATION:TN
CATEGORIES:Hebrew Calendar
END:VEVENT
BEGIN:VEVENT
DTSTART;TZID=America/Chicago:20230528T180000
DTEND;TZID=America/Chicago:20230528T203000
DTSTAMP:20260421T033949
CREATED:20230502T204938Z
LAST-MODIFIED:20230502T204938Z
UID:26909-1685296800-1685305800@www.remnantfellowshipnews.com
SUMMARY:Covenant Wedding Ceremony –  Talyhr Hahn and Aidan Snider
DESCRIPTION:Join us for another beautiful Remnant Covenant Wedding Ceremony as  Talyhr Hahn & Aidan Snider are united in marriage. The Wedding will take place on Sunday\, May 28th. This wedding is invitation only. \nFor more information on their wedding\, visit their wedding page HERE.
URL:https://www.remnantfellowshipnews.com/event/covenant-wedding-ceremony-talyhr-hahn-and-aidan-snider/
LOCATION:TN
CATEGORIES:Covenant Wedding
ATTACH;FMTTYPE=image/jpeg:https://www.remnantfellowshipnews.com/wp-content/uploads/2023/05/Hahn-Snider-Remnant-Fellowship-Wedding-01.jpg
END:VEVENT
BEGIN:VEVENT
DTSTART;VALUE=DATE:20230529
DTEND;VALUE=DATE:20230530
DTSTAMP:20260421T033949
CREATED:20221213T221312Z
LAST-MODIFIED:20221213T221312Z
UID:26496-1685318400-1685404799@www.remnantfellowshipnews.com
SUMMARY:9th of Pentecost
DESCRIPTION:
URL:https://www.remnantfellowshipnews.com/event/9th-of-pentecost/
LOCATION:TN
CATEGORIES:Hebrew Calendar
END:VEVENT
BEGIN:VEVENT
DTSTART;VALUE=DATE:20230530
DTEND;VALUE=DATE:20230531
DTSTAMP:20260421T033949
CREATED:20221213T221312Z
LAST-MODIFIED:20221213T221312Z
UID:26497-1685404800-1685491199@www.remnantfellowshipnews.com
SUMMARY:10th of Pentecost
DESCRIPTION:
URL:https://www.remnantfellowshipnews.com/event/10th-of-pentecost/
LOCATION:TN
CATEGORIES:Hebrew Calendar
END:VEVENT
BEGIN:VEVENT
DTSTART;VALUE=DATE:20230531
DTEND;VALUE=DATE:20230601
DTSTAMP:20260421T033949
CREATED:20221213T221312Z
LAST-MODIFIED:20221213T221312Z
UID:26498-1685491200-1685577599@www.remnantfellowshipnews.com
SUMMARY:11th of Pentecost
DESCRIPTION:
URL:https://www.remnantfellowshipnews.com/event/11th-of-pentecost/
LOCATION:TN
CATEGORIES:Hebrew Calendar
END:VEVENT
BEGIN:VEVENT
DTSTART;VALUE=DATE:20230601
DTEND;VALUE=DATE:20230602
DTSTAMP:20260421T033949
CREATED:20221213T221325Z
LAST-MODIFIED:20221213T221325Z
UID:26499-1685577600-1685663999@www.remnantfellowshipnews.com
SUMMARY:12th of Pentecost
DESCRIPTION:
URL:https://www.remnantfellowshipnews.com/event/12th-of-pentecost/
LOCATION:TN
CATEGORIES:Hebrew Calendar
END:VEVENT
BEGIN:VEVENT
DTSTART;VALUE=DATE:20230602
DTEND;VALUE=DATE:20230603
DTSTAMP:20260421T033949
CREATED:20221213T221325Z
LAST-MODIFIED:20221213T221325Z
UID:26500-1685664000-1685750399@www.remnantfellowshipnews.com
SUMMARY:13th of Pentecost
DESCRIPTION:
URL:https://www.remnantfellowshipnews.com/event/13th-of-pentecost/
LOCATION:TN
CATEGORIES:Hebrew Calendar
END:VEVENT
BEGIN:VEVENT
DTSTART;VALUE=DATE:20230603
DTEND;VALUE=DATE:20230604
DTSTAMP:20260421T033949
CREATED:20221213T221326Z
LAST-MODIFIED:20221213T221326Z
UID:26501-1685750400-1685836799@www.remnantfellowshipnews.com
SUMMARY:14th of Pentecost
DESCRIPTION:
URL:https://www.remnantfellowshipnews.com/event/14th-of-pentecost/
LOCATION:TN
CATEGORIES:Hebrew Calendar
END:VEVENT
END:VCALENDAR