BEGIN:VCALENDAR
VERSION:2.0
PRODID:-//Remnant Fellowship News - ECPv6.8.3//NONSGML v1.0//EN
CALSCALE:GREGORIAN
METHOD:PUBLISH
X-ORIGINAL-URL:https://www.remnantfellowshipnews.com
X-WR-CALDESC:Events for Remnant Fellowship News
REFRESH-INTERVAL;VALUE=DURATION:PT1H
X-Robots-Tag:noindex
X-PUBLISHED-TTL:PT1H
BEGIN:VTIMEZONE
TZID:America/Chicago
BEGIN:DAYLIGHT
TZOFFSETFROM:-0600
TZOFFSETTO:-0500
TZNAME:CDT
DTSTART:20230312T080000
END:DAYLIGHT
BEGIN:STANDARD
TZOFFSETFROM:-0500
TZOFFSETTO:-0600
TZNAME:CST
DTSTART:20231105T070000
END:STANDARD
END:VTIMEZONE
BEGIN:VEVENT
DTSTART;VALUE=DATE:20230217
DTEND;VALUE=DATE:20230218
DTSTAMP:20260423T152218
CREATED:20221213T220625Z
LAST-MODIFIED:20221213T220625Z
UID:26395-1676592000-1676678399@www.remnantfellowshipnews.com
SUMMARY:26th of Renewal
DESCRIPTION:
URL:https://www.remnantfellowshipnews.com/event/26th-of-renewal/
LOCATION:TN
CATEGORIES:Hebrew Calendar
END:VEVENT
BEGIN:VEVENT
DTSTART;VALUE=DATE:20230218
DTEND;VALUE=DATE:20230219
DTSTAMP:20260423T152218
CREATED:20221213T220625Z
LAST-MODIFIED:20221213T220625Z
UID:26396-1676678400-1676764799@www.remnantfellowshipnews.com
SUMMARY:27th of Renewal
DESCRIPTION:
URL:https://www.remnantfellowshipnews.com/event/27th-of-renewal/
LOCATION:TN
CATEGORIES:Hebrew Calendar
END:VEVENT
BEGIN:VEVENT
DTSTART;TZID=America/Chicago:20230218T173000
DTEND;TZID=America/Chicago:20230218T193000
DTSTAMP:20260423T152218
CREATED:20230126T204702Z
LAST-MODIFIED:20230126T204702Z
UID:26782-1676741400-1676748600@www.remnantfellowshipnews.com
SUMMARY:Sabbath Evening Assembly and Webcast
DESCRIPTION:Join us locally at 5:30pm for our Assembly.
URL:https://www.remnantfellowshipnews.com/event/sabbath-evening-assembly-and-webcast-20/
LOCATION:Remnant Fellowship Church\, 1230 Franklin Rd\, Brentwood\, TN\, 37027
CATEGORIES:Assemblies
END:VEVENT
BEGIN:VEVENT
DTSTART;VALUE=DATE:20230219
DTEND;VALUE=DATE:20230220
DTSTAMP:20260423T152218
CREATED:20221213T220626Z
LAST-MODIFIED:20221213T220626Z
UID:26397-1676764800-1676851199@www.remnantfellowshipnews.com
SUMMARY:28th of Renewal
DESCRIPTION:
URL:https://www.remnantfellowshipnews.com/event/28th-of-renewal/
LOCATION:TN
CATEGORIES:Hebrew Calendar
END:VEVENT
BEGIN:VEVENT
DTSTART;VALUE=DATE:20230220
DTEND;VALUE=DATE:20230221
DTSTAMP:20260423T152218
CREATED:20221213T220626Z
LAST-MODIFIED:20221213T220626Z
UID:26398-1676851200-1676937599@www.remnantfellowshipnews.com
SUMMARY:29th of Renewal
DESCRIPTION:
URL:https://www.remnantfellowshipnews.com/event/29th-of-renewal/
LOCATION:TN
CATEGORIES:Hebrew Calendar
END:VEVENT
BEGIN:VEVENT
DTSTART;VALUE=DATE:20230221
DTEND;VALUE=DATE:20230222
DTSTAMP:20260423T152218
CREATED:20221213T220640Z
LAST-MODIFIED:20221213T220640Z
UID:26399-1676937600-1677023999@www.remnantfellowshipnews.com
SUMMARY:30th of Renewal
DESCRIPTION:
URL:https://www.remnantfellowshipnews.com/event/30th-of-renewal/
LOCATION:TN
CATEGORIES:Hebrew Calendar
END:VEVENT
BEGIN:VEVENT
DTSTART;VALUE=DATE:20230222
DTEND;VALUE=DATE:20230223
DTSTAMP:20260423T152218
CREATED:20221213T220640Z
LAST-MODIFIED:20221213T220640Z
UID:26400-1677024000-1677110399@www.remnantfellowshipnews.com
SUMMARY:1st of Deliverance
DESCRIPTION:
URL:https://www.remnantfellowshipnews.com/event/1st-of-deliverance/
LOCATION:TN
CATEGORIES:Hebrew Calendar
END:VEVENT
BEGIN:VEVENT
DTSTART;TZID=America/Chicago:20230222T180000
DTEND;TZID=America/Chicago:20230222T193000
DTSTAMP:20260423T152218
CREATED:20230126T204714Z
LAST-MODIFIED:20230126T204714Z
UID:26779-1677088800-1677094200@www.remnantfellowshipnews.com
SUMMARY:Wednesday Evening Assembly and Webcast
DESCRIPTION:Join us locally at 6:00pm for our Assembly.
URL:https://www.remnantfellowshipnews.com/event/wednesday-evening-assembly-and-webcast-99/
LOCATION:Remnant Fellowship Church\, 1230 Franklin Rd\, Brentwood\, TN\, 37027
CATEGORIES:Assemblies
END:VEVENT
BEGIN:VEVENT
DTSTART;VALUE=DATE:20230223
DTEND;VALUE=DATE:20230224
DTSTAMP:20260423T152218
CREATED:20221213T220641Z
LAST-MODIFIED:20221213T220641Z
UID:26401-1677110400-1677196799@www.remnantfellowshipnews.com
SUMMARY:2nd of Deliverance
DESCRIPTION:
URL:https://www.remnantfellowshipnews.com/event/2nd-of-deliverance/
LOCATION:TN
CATEGORIES:Hebrew Calendar
END:VEVENT
BEGIN:VEVENT
DTSTART;VALUE=DATE:20230224
DTEND;VALUE=DATE:20230225
DTSTAMP:20260423T152218
CREATED:20221213T220641Z
LAST-MODIFIED:20221213T220641Z
UID:26402-1677196800-1677283199@www.remnantfellowshipnews.com
SUMMARY:3rd of Deliverance
DESCRIPTION:
URL:https://www.remnantfellowshipnews.com/event/3rd-of-deliverance/
LOCATION:TN
CATEGORIES:Hebrew Calendar
END:VEVENT
BEGIN:VEVENT
DTSTART;VALUE=DATE:20230225
DTEND;VALUE=DATE:20230226
DTSTAMP:20260423T152218
CREATED:20221213T220641Z
LAST-MODIFIED:20221213T220641Z
UID:26403-1677283200-1677369599@www.remnantfellowshipnews.com
SUMMARY:4th of Deliverance
DESCRIPTION:
URL:https://www.remnantfellowshipnews.com/event/4th-of-deliverance/
LOCATION:TN
CATEGORIES:Hebrew Calendar
END:VEVENT
BEGIN:VEVENT
DTSTART;TZID=America/Chicago:20230225T173000
DTEND;TZID=America/Chicago:20230225T193000
DTSTAMP:20260423T152218
CREATED:20230126T204657Z
LAST-MODIFIED:20230126T204657Z
UID:26783-1677346200-1677353400@www.remnantfellowshipnews.com
SUMMARY:Sabbath Evening Assembly and Webcast
DESCRIPTION:Join us locally at 5:30pm for our Assembly.
URL:https://www.remnantfellowshipnews.com/event/sabbath-evening-assembly-and-webcast-19/
LOCATION:Remnant Fellowship Church\, 1230 Franklin Rd\, Brentwood\, TN\, 37027
CATEGORIES:Assemblies
END:VEVENT
BEGIN:VEVENT
DTSTART;VALUE=DATE:20230226
DTEND;VALUE=DATE:20230227
DTSTAMP:20260423T152218
CREATED:20221213T220840Z
LAST-MODIFIED:20221213T220840Z
UID:26404-1677369600-1677455999@www.remnantfellowshipnews.com
SUMMARY:5th of Deliverance
DESCRIPTION:
URL:https://www.remnantfellowshipnews.com/event/5th-of-deliverance/
LOCATION:TN
CATEGORIES:Hebrew Calendar
END:VEVENT
BEGIN:VEVENT
DTSTART;VALUE=DATE:20230227
DTEND;VALUE=DATE:20230228
DTSTAMP:20260423T152218
CREATED:20221213T220840Z
LAST-MODIFIED:20221213T220840Z
UID:26405-1677456000-1677542399@www.remnantfellowshipnews.com
SUMMARY:6th of Deliverance
DESCRIPTION:
URL:https://www.remnantfellowshipnews.com/event/6th-of-deliverance/
LOCATION:TN
CATEGORIES:Hebrew Calendar
END:VEVENT
BEGIN:VEVENT
DTSTART;VALUE=DATE:20230228
DTEND;VALUE=DATE:20230301
DTSTAMP:20260423T152218
CREATED:20221213T220841Z
LAST-MODIFIED:20221213T220841Z
UID:26406-1677542400-1677628799@www.remnantfellowshipnews.com
SUMMARY:7th of Deliverance
DESCRIPTION:
URL:https://www.remnantfellowshipnews.com/event/7th-of-deliverance/
LOCATION:TN
CATEGORIES:Hebrew Calendar
END:VEVENT
BEGIN:VEVENT
DTSTART;VALUE=DATE:20230301
DTEND;VALUE=DATE:20230302
DTSTAMP:20260423T152218
CREATED:20221213T220841Z
LAST-MODIFIED:20221213T220841Z
UID:26407-1677628800-1677715199@www.remnantfellowshipnews.com
SUMMARY:8th of Deliverance
DESCRIPTION:
URL:https://www.remnantfellowshipnews.com/event/8th-of-deliverance/
LOCATION:TN
CATEGORIES:Hebrew Calendar
END:VEVENT
BEGIN:VEVENT
DTSTART;TZID=America/Chicago:20230301T180000
DTEND;TZID=America/Chicago:20230301T193000
DTSTAMP:20260423T152218
CREATED:20230126T204708Z
LAST-MODIFIED:20230126T204708Z
UID:26781-1677693600-1677699000@www.remnantfellowshipnews.com
SUMMARY:Wednesday Evening Assembly and Webcast
DESCRIPTION:Join us locally at 6:00pm for our Assembly.
URL:https://www.remnantfellowshipnews.com/event/wednesday-evening-assembly-and-webcast-98/
LOCATION:Remnant Fellowship Church\, 1230 Franklin Rd\, Brentwood\, TN\, 37027
CATEGORIES:Assemblies
END:VEVENT
BEGIN:VEVENT
DTSTART;VALUE=DATE:20230302
DTEND;VALUE=DATE:20230303
DTSTAMP:20260423T152218
CREATED:20221213T220841Z
LAST-MODIFIED:20221213T220841Z
UID:26408-1677715200-1677801599@www.remnantfellowshipnews.com
SUMMARY:9th of Deliverance
DESCRIPTION:
URL:https://www.remnantfellowshipnews.com/event/9th-of-deliverance/
LOCATION:TN
CATEGORIES:Hebrew Calendar
END:VEVENT
BEGIN:VEVENT
DTSTART;VALUE=DATE:20230303
DTEND;VALUE=DATE:20230304
DTSTAMP:20260423T152218
CREATED:20221213T220855Z
LAST-MODIFIED:20221213T220855Z
UID:26409-1677801600-1677887999@www.remnantfellowshipnews.com
SUMMARY:10th of Deliverance
DESCRIPTION:
URL:https://www.remnantfellowshipnews.com/event/10th-of-deliverance/
LOCATION:TN
CATEGORIES:Hebrew Calendar
END:VEVENT
BEGIN:VEVENT
DTSTART;VALUE=DATE:20230304
DTEND;VALUE=DATE:20230305
DTSTAMP:20260423T152218
CREATED:20221213T220855Z
LAST-MODIFIED:20221213T220855Z
UID:26410-1677888000-1677974399@www.remnantfellowshipnews.com
SUMMARY:11th of Deliverance
DESCRIPTION:
URL:https://www.remnantfellowshipnews.com/event/11th-of-deliverance/
LOCATION:TN
CATEGORIES:Hebrew Calendar
END:VEVENT
BEGIN:VEVENT
DTSTART;TZID=America/Chicago:20230304T173000
DTEND;TZID=America/Chicago:20230304T193000
DTSTAMP:20260423T152218
CREATED:20230126T204649Z
LAST-MODIFIED:20230126T204649Z
UID:26784-1677951000-1677958200@www.remnantfellowshipnews.com
SUMMARY:Sabbath Evening Assembly and Webcast
DESCRIPTION:Join us locally at 5:30pm for our Assembly.
URL:https://www.remnantfellowshipnews.com/event/sabbath-evening-assembly-and-webcast-18/
LOCATION:Remnant Fellowship Church\, 1230 Franklin Rd\, Brentwood\, TN\, 37027
CATEGORIES:Assemblies
END:VEVENT
BEGIN:VEVENT
DTSTART;TZID=America/Chicago:20230304T173000
DTEND;TZID=America/Chicago:20230304T210000
DTSTAMP:20260423T152218
CREATED:20230207T151704Z
LAST-MODIFIED:20230207T151704Z
UID:26794-1677951000-1677963600@www.remnantfellowshipnews.com
SUMMARY:Covenant Wedding Ceremony - Ellen Kaunisto and Luke Gormsen
DESCRIPTION:Join us for another beautiful Remnant Covenant Wedding Ceremony as  Ellen Kaunisto & Luke Gormsen  are united in marriage.\nThe Wedding will take place on Saturday\, March 4th at 6:00pm at Remnant Fellowship Church with the webcast and prelude beginning at 5:30pm. \nFor more information on their wedding\, visit their wedding page HERE.
URL:https://www.remnantfellowshipnews.com/event/covenant-wedding-ceremony-ellen-kaunisto-and-luke-gormsen/
LOCATION:Remnant Fellowship Church\, 1230 Franklin Rd\, Brentwood\, TN\, 37027
CATEGORIES:Assemblies,Covenant Wedding
ATTACH;FMTTYPE=image/jpeg:https://www.remnantfellowshipnews.com/wp-content/uploads/2023/02/Remnant-Fellowship-Wedding-Kaunisto-Gormsen-01.jpg
END:VEVENT
BEGIN:VEVENT
DTSTART;VALUE=DATE:20230305
DTEND;VALUE=DATE:20230306
DTSTAMP:20260423T152218
CREATED:20221213T220856Z
LAST-MODIFIED:20221213T220856Z
UID:26411-1677974400-1678060799@www.remnantfellowshipnews.com
SUMMARY:12th of Deliverance
DESCRIPTION:
URL:https://www.remnantfellowshipnews.com/event/12th-of-deliverance/
LOCATION:TN
CATEGORIES:Hebrew Calendar
END:VEVENT
BEGIN:VEVENT
DTSTART;VALUE=DATE:20230306
DTEND;VALUE=DATE:20230307
DTSTAMP:20260423T152218
CREATED:20221213T220856Z
LAST-MODIFIED:20221213T220856Z
UID:26412-1678060800-1678147199@www.remnantfellowshipnews.com
SUMMARY:13th of Deliverance
DESCRIPTION:
URL:https://www.remnantfellowshipnews.com/event/13th-of-deliverance/
LOCATION:TN
CATEGORIES:Hebrew Calendar
END:VEVENT
BEGIN:VEVENT
DTSTART;VALUE=DATE:20230307
DTEND;VALUE=DATE:20230308
DTSTAMP:20260423T152218
CREATED:20221213T220856Z
LAST-MODIFIED:20221213T220856Z
UID:26413-1678147200-1678233599@www.remnantfellowshipnews.com
SUMMARY:14th of Deliverance
DESCRIPTION:
URL:https://www.remnantfellowshipnews.com/event/14th-of-deliverance/
LOCATION:TN
CATEGORIES:Hebrew Calendar
END:VEVENT
BEGIN:VEVENT
DTSTART;VALUE=DATE:20230308
DTEND;VALUE=DATE:20230309
DTSTAMP:20260423T152218
CREATED:20221213T220910Z
LAST-MODIFIED:20221213T220910Z
UID:26414-1678233600-1678319999@www.remnantfellowshipnews.com
SUMMARY:15th of Deliverance
DESCRIPTION:
URL:https://www.remnantfellowshipnews.com/event/15th-of-deliverance/
LOCATION:TN
CATEGORIES:Hebrew Calendar
END:VEVENT
BEGIN:VEVENT
DTSTART;TZID=America/Chicago:20230308T180000
DTEND;TZID=America/Chicago:20230308T200000
DTSTAMP:20260423T152218
CREATED:20230308T053136Z
LAST-MODIFIED:20230308T053136Z
UID:26851-1678298400-1678305600@www.remnantfellowshipnews.com
SUMMARY:Wednesday Evening Assembly and Webcast
DESCRIPTION:Join us locally at 6:00pm for our Assembly.
URL:https://www.remnantfellowshipnews.com/event/wednesday-evening-assembly-and-webcast-101/
LOCATION:Remnant Fellowship Church\, 1230 Franklin Rd\, Brentwood\, TN\, 37027
CATEGORIES:Assemblies
END:VEVENT
BEGIN:VEVENT
DTSTART;VALUE=DATE:20230309
DTEND;VALUE=DATE:20230310
DTSTAMP:20260423T152218
CREATED:20221213T220911Z
LAST-MODIFIED:20221213T220911Z
UID:26415-1678320000-1678406399@www.remnantfellowshipnews.com
SUMMARY:16th of Deliverance
DESCRIPTION:
URL:https://www.remnantfellowshipnews.com/event/16th-of-deliverance/
LOCATION:TN
CATEGORIES:Hebrew Calendar
END:VEVENT
BEGIN:VEVENT
DTSTART;VALUE=DATE:20230310
DTEND;VALUE=DATE:20230311
DTSTAMP:20260423T152218
CREATED:20221213T220911Z
LAST-MODIFIED:20221213T220911Z
UID:26416-1678406400-1678492799@www.remnantfellowshipnews.com
SUMMARY:17th of Deliverance
DESCRIPTION:
URL:https://www.remnantfellowshipnews.com/event/17th-of-deliverance/
LOCATION:TN
CATEGORIES:Hebrew Calendar
END:VEVENT
BEGIN:VEVENT
DTSTART;VALUE=DATE:20230311
DTEND;VALUE=DATE:20230312
DTSTAMP:20260423T152218
CREATED:20221213T220911Z
LAST-MODIFIED:20221213T220911Z
UID:26417-1678492800-1678579199@www.remnantfellowshipnews.com
SUMMARY:18th of Deliverance
DESCRIPTION:
URL:https://www.remnantfellowshipnews.com/event/18th-of-deliverance/
LOCATION:TN
CATEGORIES:Hebrew Calendar
END:VEVENT
END:VCALENDAR