BEGIN:VCALENDAR
VERSION:2.0
PRODID:-//Remnant Fellowship News - ECPv6.8.3//NONSGML v1.0//EN
CALSCALE:GREGORIAN
METHOD:PUBLISH
X-ORIGINAL-URL:https://www.remnantfellowshipnews.com
X-WR-CALDESC:Events for Remnant Fellowship News
REFRESH-INTERVAL;VALUE=DURATION:PT1H
X-Robots-Tag:noindex
X-PUBLISHED-TTL:PT1H
BEGIN:VTIMEZONE
TZID:America/Chicago
BEGIN:DAYLIGHT
TZOFFSETFROM:-0600
TZOFFSETTO:-0500
TZNAME:CDT
DTSTART:20230312T080000
END:DAYLIGHT
BEGIN:STANDARD
TZOFFSETFROM:-0500
TZOFFSETTO:-0600
TZNAME:CST
DTSTART:20231105T070000
END:STANDARD
END:VTIMEZONE
BEGIN:VEVENT
DTSTART;VALUE=DATE:20230316
DTEND;VALUE=DATE:20230317
DTSTAMP:20260424T212309
CREATED:20221213T220927Z
LAST-MODIFIED:20221213T220927Z
UID:26422-1678924800-1679011199@www.remnantfellowshipnews.com
SUMMARY:23rd of Deliverance
DESCRIPTION:
URL:https://www.remnantfellowshipnews.com/event/23rd-of-deliverance/
LOCATION:TN
CATEGORIES:Hebrew Calendar
END:VEVENT
BEGIN:VEVENT
DTSTART;VALUE=DATE:20230317
DTEND;VALUE=DATE:20230318
DTSTAMP:20260424T212309
CREATED:20221213T220927Z
LAST-MODIFIED:20221213T220927Z
UID:26423-1679011200-1679097599@www.remnantfellowshipnews.com
SUMMARY:24th of Deliverance
DESCRIPTION:
URL:https://www.remnantfellowshipnews.com/event/24th-of-deliverance/
LOCATION:TN
CATEGORIES:Hebrew Calendar
END:VEVENT
BEGIN:VEVENT
DTSTART;VALUE=DATE:20230318
DTEND;VALUE=DATE:20230319
DTSTAMP:20260424T212309
CREATED:20221213T220940Z
LAST-MODIFIED:20221213T220940Z
UID:26424-1679097600-1679183999@www.remnantfellowshipnews.com
SUMMARY:25th of Deliverance
DESCRIPTION:
URL:https://www.remnantfellowshipnews.com/event/25th-of-deliverance/
LOCATION:TN
CATEGORIES:Hebrew Calendar
END:VEVENT
BEGIN:VEVENT
DTSTART;TZID=America/Chicago:20230318T173000
DTEND;TZID=America/Chicago:20230318T193000
DTSTAMP:20260424T212309
CREATED:20230308T053415Z
LAST-MODIFIED:20230308T053415Z
UID:26860-1679160600-1679167800@www.remnantfellowshipnews.com
SUMMARY:Sabbath Evening Assembly and Webcast
DESCRIPTION:Join us locally at 5:30pm for our Assembly.
URL:https://www.remnantfellowshipnews.com/event/sabbath-evening-assembly-and-webcast-22/
LOCATION:Remnant Fellowship Church\, 1230 Franklin Rd\, Brentwood\, TN\, 37027
CATEGORIES:Assemblies
END:VEVENT
BEGIN:VEVENT
DTSTART;VALUE=DATE:20230319
DTEND;VALUE=DATE:20230320
DTSTAMP:20260424T212309
CREATED:20221213T220940Z
LAST-MODIFIED:20221213T220940Z
UID:26425-1679184000-1679270399@www.remnantfellowshipnews.com
SUMMARY:26th of Deliverance
DESCRIPTION:
URL:https://www.remnantfellowshipnews.com/event/26th-of-deliverance/
LOCATION:TN
CATEGORIES:Hebrew Calendar
END:VEVENT
BEGIN:VEVENT
DTSTART;VALUE=DATE:20230320
DTEND;VALUE=DATE:20230321
DTSTAMP:20260424T212309
CREATED:20221213T220941Z
LAST-MODIFIED:20221213T220941Z
UID:26426-1679270400-1679356799@www.remnantfellowshipnews.com
SUMMARY:27th of Deliverance
DESCRIPTION:
URL:https://www.remnantfellowshipnews.com/event/27th-of-deliverance/
LOCATION:TN
CATEGORIES:Hebrew Calendar
END:VEVENT
BEGIN:VEVENT
DTSTART;VALUE=DATE:20230321
DTEND;VALUE=DATE:20230322
DTSTAMP:20260424T212309
CREATED:20221213T220941Z
LAST-MODIFIED:20221213T220941Z
UID:26427-1679356800-1679443199@www.remnantfellowshipnews.com
SUMMARY:28th of Deliverance
DESCRIPTION:
URL:https://www.remnantfellowshipnews.com/event/28th-of-deliverance/
LOCATION:TN
CATEGORIES:Hebrew Calendar
END:VEVENT
BEGIN:VEVENT
DTSTART;VALUE=DATE:20230322
DTEND;VALUE=DATE:20230323
DTSTAMP:20260424T212309
CREATED:20221213T220941Z
LAST-MODIFIED:20221213T220941Z
UID:26428-1679443200-1679529599@www.remnantfellowshipnews.com
SUMMARY:29th of Deliverance
DESCRIPTION:
URL:https://www.remnantfellowshipnews.com/event/29th-of-deliverance/
LOCATION:TN
CATEGORIES:Hebrew Calendar
END:VEVENT
BEGIN:VEVENT
DTSTART;TZID=America/Chicago:20230322T180000
DTEND;TZID=America/Chicago:20230322T200000
DTSTAMP:20260424T212309
CREATED:20230308T053222Z
LAST-MODIFIED:20230308T053222Z
UID:26853-1679508000-1679515200@www.remnantfellowshipnews.com
SUMMARY:Wednesday Evening Assembly and Webcast
DESCRIPTION:Join us locally at 6:00pm for our Assembly.
URL:https://www.remnantfellowshipnews.com/event/wednesday-evening-assembly-and-webcast-103/
LOCATION:Remnant Fellowship Church\, 1230 Franklin Rd\, Brentwood\, TN\, 37027
CATEGORIES:Assemblies
END:VEVENT
BEGIN:VEVENT
DTSTART;VALUE=DATE:20230323
DTEND;VALUE=DATE:20230324
DTSTAMP:20260424T212309
CREATED:20221213T220955Z
LAST-MODIFIED:20221213T220955Z
UID:26429-1679529600-1679615999@www.remnantfellowshipnews.com
SUMMARY:1st of Passover
DESCRIPTION:
URL:https://www.remnantfellowshipnews.com/event/1st-of-passover-4/
LOCATION:TN
CATEGORIES:Hebrew Calendar
END:VEVENT
BEGIN:VEVENT
DTSTART;VALUE=DATE:20230324
DTEND;VALUE=DATE:20230325
DTSTAMP:20260424T212310
CREATED:20221213T220955Z
LAST-MODIFIED:20221213T220955Z
UID:26430-1679616000-1679702399@www.remnantfellowshipnews.com
SUMMARY:2nd of Passover
DESCRIPTION:
URL:https://www.remnantfellowshipnews.com/event/2nd-of-passover-4/
LOCATION:TN
CATEGORIES:Hebrew Calendar
END:VEVENT
BEGIN:VEVENT
DTSTART;VALUE=DATE:20230325
DTEND;VALUE=DATE:20230326
DTSTAMP:20260424T212310
CREATED:20221213T220956Z
LAST-MODIFIED:20221213T220956Z
UID:26431-1679702400-1679788799@www.remnantfellowshipnews.com
SUMMARY:3rd of Passover
DESCRIPTION:
URL:https://www.remnantfellowshipnews.com/event/3rd-of-passover-4/
LOCATION:TN
CATEGORIES:Hebrew Calendar
END:VEVENT
BEGIN:VEVENT
DTSTART;TZID=America/Chicago:20230325T173000
DTEND;TZID=America/Chicago:20230325T193000
DTSTAMP:20260424T212310
CREATED:20230308T053433Z
LAST-MODIFIED:20230308T053433Z
UID:26861-1679765400-1679772600@www.remnantfellowshipnews.com
SUMMARY:Sabbath Evening Assembly and Webcast
DESCRIPTION:Join us locally at 5:30pm for our Assembly.
URL:https://www.remnantfellowshipnews.com/event/sabbath-evening-assembly-and-webcast-23/
LOCATION:Remnant Fellowship Church\, 1230 Franklin Rd\, Brentwood\, TN\, 37027
CATEGORIES:Assemblies
END:VEVENT
BEGIN:VEVENT
DTSTART;VALUE=DATE:20230326
DTEND;VALUE=DATE:20230327
DTSTAMP:20260424T212310
CREATED:20221213T220956Z
LAST-MODIFIED:20221213T220956Z
UID:26432-1679788800-1679875199@www.remnantfellowshipnews.com
SUMMARY:4th of Passover
DESCRIPTION:
URL:https://www.remnantfellowshipnews.com/event/4th-of-passover-4/
LOCATION:TN
CATEGORIES:Hebrew Calendar
END:VEVENT
BEGIN:VEVENT
DTSTART;VALUE=DATE:20230327
DTEND;VALUE=DATE:20230328
DTSTAMP:20260424T212310
CREATED:20221213T220956Z
LAST-MODIFIED:20221213T220956Z
UID:26433-1679875200-1679961599@www.remnantfellowshipnews.com
SUMMARY:5th of Passover
DESCRIPTION:
URL:https://www.remnantfellowshipnews.com/event/5th-of-passover-4/
LOCATION:TN
CATEGORIES:Hebrew Calendar
END:VEVENT
BEGIN:VEVENT
DTSTART;VALUE=DATE:20230328
DTEND;VALUE=DATE:20230329
DTSTAMP:20260424T212310
CREATED:20221213T221011Z
LAST-MODIFIED:20221213T221011Z
UID:26434-1679961600-1680047999@www.remnantfellowshipnews.com
SUMMARY:6th of Passover
DESCRIPTION:
URL:https://www.remnantfellowshipnews.com/event/6th-of-passover-4/
LOCATION:TN
CATEGORIES:Hebrew Calendar
END:VEVENT
BEGIN:VEVENT
DTSTART;VALUE=DATE:20230329
DTEND;VALUE=DATE:20230330
DTSTAMP:20260424T212310
CREATED:20221213T221011Z
LAST-MODIFIED:20221213T221011Z
UID:26435-1680048000-1680134399@www.remnantfellowshipnews.com
SUMMARY:7th of Passover
DESCRIPTION:
URL:https://www.remnantfellowshipnews.com/event/7th-of-passover-4/
LOCATION:TN
CATEGORIES:Hebrew Calendar
END:VEVENT
BEGIN:VEVENT
DTSTART;TZID=America/Chicago:20230329T180000
DTEND;TZID=America/Chicago:20230329T200000
DTSTAMP:20260424T212310
CREATED:20230308T053241Z
LAST-MODIFIED:20230308T053241Z
UID:26854-1680112800-1680120000@www.remnantfellowshipnews.com
SUMMARY:Wednesday Evening Assembly and Webcast
DESCRIPTION:Join us locally at 6:00pm for our Assembly.
URL:https://www.remnantfellowshipnews.com/event/wednesday-evening-assembly-and-webcast-104/
LOCATION:Remnant Fellowship Church\, 1230 Franklin Rd\, Brentwood\, TN\, 37027
CATEGORIES:Assemblies
END:VEVENT
BEGIN:VEVENT
DTSTART;VALUE=DATE:20230330
DTEND;VALUE=DATE:20230331
DTSTAMP:20260424T212310
CREATED:20221213T221012Z
LAST-MODIFIED:20221213T221012Z
UID:26436-1680134400-1680220799@www.remnantfellowshipnews.com
SUMMARY:8th of Passover
DESCRIPTION:
URL:https://www.remnantfellowshipnews.com/event/8th-of-passover-4/
LOCATION:TN
CATEGORIES:Hebrew Calendar
END:VEVENT
BEGIN:VEVENT
DTSTART;VALUE=DATE:20230331
DTEND;VALUE=DATE:20230401
DTSTAMP:20260424T212310
CREATED:20221213T221012Z
LAST-MODIFIED:20221213T221012Z
UID:26437-1680220800-1680307199@www.remnantfellowshipnews.com
SUMMARY:9th of Passover
DESCRIPTION:
URL:https://www.remnantfellowshipnews.com/event/9th-of-passover-4/
LOCATION:TN
CATEGORIES:Hebrew Calendar
END:VEVENT
BEGIN:VEVENT
DTSTART;VALUE=DATE:20230401
DTEND;VALUE=DATE:20230402
DTSTAMP:20260424T212310
CREATED:20221213T221012Z
LAST-MODIFIED:20221213T221012Z
UID:26438-1680307200-1680393599@www.remnantfellowshipnews.com
SUMMARY:10th of Passover
DESCRIPTION:
URL:https://www.remnantfellowshipnews.com/event/10th-of-passover-4/
LOCATION:TN
CATEGORIES:Hebrew Calendar
END:VEVENT
BEGIN:VEVENT
DTSTART;TZID=America/Chicago:20230401T173000
DTEND;TZID=America/Chicago:20230401T190000
DTSTAMP:20260424T212310
CREATED:20220822T184331Z
LAST-MODIFIED:20230330T155301Z
UID:25752-1680370200-1680375600@www.remnantfellowshipnews.com
SUMMARY:Palm Sabbath 2023
DESCRIPTION:Join us at 5:30pm Central Time for our Palm Sabbath Assembly.
URL:https://www.remnantfellowshipnews.com/event/palm-sabbath-2023/
LOCATION:Remnant Fellowship Church\, 1230 Franklin Rd\, Brentwood\, TN\, 37027
CATEGORIES:Assemblies,Festivals and National Events
END:VEVENT
BEGIN:VEVENT
DTSTART;VALUE=DATE:20230402
DTEND;VALUE=DATE:20230403
DTSTAMP:20260424T212310
CREATED:20221213T221025Z
LAST-MODIFIED:20221213T221025Z
UID:26439-1680393600-1680479999@www.remnantfellowshipnews.com
SUMMARY:11th of Passover
DESCRIPTION:
URL:https://www.remnantfellowshipnews.com/event/11th-of-passover-4/
LOCATION:TN
CATEGORIES:Hebrew Calendar
END:VEVENT
BEGIN:VEVENT
DTSTART;VALUE=DATE:20230403
DTEND;VALUE=DATE:20230404
DTSTAMP:20260424T212310
CREATED:20221213T221025Z
LAST-MODIFIED:20221213T221025Z
UID:26440-1680480000-1680566399@www.remnantfellowshipnews.com
SUMMARY:12th of Passover
DESCRIPTION:
URL:https://www.remnantfellowshipnews.com/event/12th-of-passover-4/
LOCATION:TN
CATEGORIES:Hebrew Calendar
END:VEVENT
BEGIN:VEVENT
DTSTART;VALUE=DATE:20230404
DTEND;VALUE=DATE:20230405
DTSTAMP:20260424T212310
CREATED:20221213T221026Z
LAST-MODIFIED:20221213T221026Z
UID:26441-1680566400-1680652799@www.remnantfellowshipnews.com
SUMMARY:13th of Passover
DESCRIPTION:
URL:https://www.remnantfellowshipnews.com/event/13th-of-passover-4/
LOCATION:TN
CATEGORIES:Hebrew Calendar
END:VEVENT
BEGIN:VEVENT
DTSTART;VALUE=DATE:20230405
DTEND;VALUE=DATE:20230406
DTSTAMP:20260424T212310
CREATED:20221213T221026Z
LAST-MODIFIED:20221213T221026Z
UID:26442-1680652800-1680739199@www.remnantfellowshipnews.com
SUMMARY:14th of Passover
DESCRIPTION:
URL:https://www.remnantfellowshipnews.com/event/14th-of-passover-4/
LOCATION:TN
CATEGORIES:Hebrew Calendar
END:VEVENT
BEGIN:VEVENT
DTSTART;TZID=America/Chicago:20230405T180000
DTEND;TZID=America/Chicago:20230405T193000
DTSTAMP:20260424T212310
CREATED:20230330T155553Z
LAST-MODIFIED:20230330T155610Z
UID:26875-1680717600-1680723000@www.remnantfellowshipnews.com
SUMMARY:Wednesday Evening Assembly and Webcast
DESCRIPTION:Join us locally at 6:00pm for our Assembly.
URL:https://www.remnantfellowshipnews.com/event/wednesday-evening-assembly-and-webcast-105/
LOCATION:Remnant Fellowship Church\, 1230 Franklin Rd\, Brentwood\, TN\, 37027
CATEGORIES:Assemblies
END:VEVENT
BEGIN:VEVENT
DTSTART;VALUE=DATE:20230406
DTEND;VALUE=DATE:20230407
DTSTAMP:20260424T212310
CREATED:20221213T221026Z
LAST-MODIFIED:20221213T221026Z
UID:26443-1680739200-1680825599@www.remnantfellowshipnews.com
SUMMARY:15th of Passover
DESCRIPTION:
URL:https://www.remnantfellowshipnews.com/event/15th-of-passover-4/
LOCATION:TN
CATEGORIES:Hebrew Calendar
END:VEVENT
BEGIN:VEVENT
DTSTART;VALUE=DATE:20230406
DTEND;VALUE=DATE:20230410
DTSTAMP:20260424T212310
CREATED:20220822T184219Z
LAST-MODIFIED:20220822T184219Z
UID:25749-1680739200-1681084799@www.remnantfellowshipnews.com
SUMMARY:Passover Weekend 2023
DESCRIPTION:Our Passover Weekend will last from April 6th-9th.  Please watch your e-mails for details!
URL:https://www.remnantfellowshipnews.com/event/passover-weekend-2023/
LOCATION:Remnant Fellowship Church\, 1230 Franklin Rd\, Brentwood\, TN\, 37027
CATEGORIES:Festivals and National Events
ATTACH;FMTTYPE=image/jpeg:https://www.remnantfellowshipnews.com/wp-content/uploads/2016/03/Passover-Logo_2014-slide.jpg
END:VEVENT
BEGIN:VEVENT
DTSTART;VALUE=DATE:20230407
DTEND;VALUE=DATE:20230408
DTSTAMP:20260424T212310
CREATED:20221213T221040Z
LAST-MODIFIED:20221213T221040Z
UID:26444-1680825600-1680911999@www.remnantfellowshipnews.com
SUMMARY:16th of Passover
DESCRIPTION:
URL:https://www.remnantfellowshipnews.com/event/16th-of-passover-4/
LOCATION:TN
CATEGORIES:Hebrew Calendar
END:VEVENT
END:VCALENDAR