BEGIN:VCALENDAR
VERSION:2.0
PRODID:-//Remnant Fellowship News - ECPv6.8.3//NONSGML v1.0//EN
CALSCALE:GREGORIAN
METHOD:PUBLISH
X-ORIGINAL-URL:https://www.remnantfellowshipnews.com
X-WR-CALDESC:Events for Remnant Fellowship News
REFRESH-INTERVAL;VALUE=DURATION:PT1H
X-Robots-Tag:noindex
X-PUBLISHED-TTL:PT1H
BEGIN:VTIMEZONE
TZID:America/Chicago
BEGIN:DAYLIGHT
TZOFFSETFROM:-0600
TZOFFSETTO:-0500
TZNAME:CDT
DTSTART:20230312T080000
END:DAYLIGHT
BEGIN:STANDARD
TZOFFSETFROM:-0500
TZOFFSETTO:-0600
TZNAME:CST
DTSTART:20231105T070000
END:STANDARD
END:VTIMEZONE
BEGIN:VEVENT
DTSTART;VALUE=DATE:20230421
DTEND;VALUE=DATE:20230422
DTSTAMP:20260421T175019
CREATED:20221213T221111Z
LAST-MODIFIED:20221213T221111Z
UID:26458-1682035200-1682121599@www.remnantfellowshipnews.com
SUMMARY:30th of Passover
DESCRIPTION:
URL:https://www.remnantfellowshipnews.com/event/30th-of-passover-4/
LOCATION:TN
CATEGORIES:Hebrew Calendar
END:VEVENT
BEGIN:VEVENT
DTSTART;VALUE=DATE:20230422
DTEND;VALUE=DATE:20230423
DTSTAMP:20260421T175019
CREATED:20221213T221125Z
LAST-MODIFIED:20221213T221125Z
UID:26459-1682121600-1682207999@www.remnantfellowshipnews.com
SUMMARY:1st of Revelation
DESCRIPTION:
URL:https://www.remnantfellowshipnews.com/event/1st-of-revelation/
LOCATION:TN
CATEGORIES:Hebrew Calendar
END:VEVENT
BEGIN:VEVENT
DTSTART;TZID=America/Chicago:20230422T173000
DTEND;TZID=America/Chicago:20230422T190000
DTSTAMP:20260421T175019
CREATED:20230330T155902Z
LAST-MODIFIED:20230330T155902Z
UID:26882-1682184600-1682190000@www.remnantfellowshipnews.com
SUMMARY:Sabbath Evening Assembly and Webcast
DESCRIPTION:Join us locally at 5:30pm for our Assembly.
URL:https://www.remnantfellowshipnews.com/event/sabbath-evening-assembly-and-webcast-25/
LOCATION:Remnant Fellowship Church\, 1230 Franklin Rd\, Brentwood\, TN\, 37027
CATEGORIES:Assemblies
END:VEVENT
BEGIN:VEVENT
DTSTART;VALUE=DATE:20230423
DTEND;VALUE=DATE:20230424
DTSTAMP:20260421T175019
CREATED:20221213T221125Z
LAST-MODIFIED:20221213T221125Z
UID:26460-1682208000-1682294399@www.remnantfellowshipnews.com
SUMMARY:2nd of Revelation
DESCRIPTION:
URL:https://www.remnantfellowshipnews.com/event/2nd-of-revelation/
LOCATION:TN
CATEGORIES:Hebrew Calendar
END:VEVENT
BEGIN:VEVENT
DTSTART;VALUE=DATE:20230424
DTEND;VALUE=DATE:20230425
DTSTAMP:20260421T175019
CREATED:20221213T221126Z
LAST-MODIFIED:20221213T221126Z
UID:26461-1682294400-1682380799@www.remnantfellowshipnews.com
SUMMARY:3rd of Revelation
DESCRIPTION:
URL:https://www.remnantfellowshipnews.com/event/3rd-of-revelation/
LOCATION:TN
CATEGORIES:Hebrew Calendar
END:VEVENT
BEGIN:VEVENT
DTSTART;VALUE=DATE:20230425
DTEND;VALUE=DATE:20230426
DTSTAMP:20260421T175019
CREATED:20221213T221126Z
LAST-MODIFIED:20221213T221126Z
UID:26462-1682380800-1682467199@www.remnantfellowshipnews.com
SUMMARY:4th of Revelation
DESCRIPTION:
URL:https://www.remnantfellowshipnews.com/event/4th-of-revelation/
LOCATION:TN
CATEGORIES:Hebrew Calendar
END:VEVENT
BEGIN:VEVENT
DTSTART;VALUE=DATE:20230426
DTEND;VALUE=DATE:20230427
DTSTAMP:20260421T175019
CREATED:20221213T221126Z
LAST-MODIFIED:20221213T221126Z
UID:26463-1682467200-1682553599@www.remnantfellowshipnews.com
SUMMARY:5th of Revelation
DESCRIPTION:
URL:https://www.remnantfellowshipnews.com/event/5th-of-revelation/
LOCATION:TN
CATEGORIES:Hebrew Calendar
END:VEVENT
BEGIN:VEVENT
DTSTART;TZID=America/Chicago:20230426T180000
DTEND;TZID=America/Chicago:20230426T193000
DTSTAMP:20260421T175019
CREATED:20230330T155715Z
LAST-MODIFIED:20230330T155737Z
UID:26880-1682532000-1682537400@www.remnantfellowshipnews.com
SUMMARY:Wednesday Evening Assembly and Webcast
DESCRIPTION:Join us locally at 6:00pm for our Assembly.
URL:https://www.remnantfellowshipnews.com/event/wednesday-evening-assembly-and-webcast-108/
LOCATION:Remnant Fellowship Church\, 1230 Franklin Rd\, Brentwood\, TN\, 37027
CATEGORIES:Assemblies
END:VEVENT
BEGIN:VEVENT
DTSTART;VALUE=DATE:20230427
DTEND;VALUE=DATE:20230428
DTSTAMP:20260421T175019
CREATED:20221213T221141Z
LAST-MODIFIED:20221213T221141Z
UID:26464-1682553600-1682639999@www.remnantfellowshipnews.com
SUMMARY:6th of Revelation
DESCRIPTION:
URL:https://www.remnantfellowshipnews.com/event/6th-of-revelation/
LOCATION:TN
CATEGORIES:Hebrew Calendar
END:VEVENT
BEGIN:VEVENT
DTSTART;VALUE=DATE:20230428
DTEND;VALUE=DATE:20230429
DTSTAMP:20260421T175019
CREATED:20221213T221141Z
LAST-MODIFIED:20221213T221141Z
UID:26465-1682640000-1682726399@www.remnantfellowshipnews.com
SUMMARY:7th of Revelation
DESCRIPTION:
URL:https://www.remnantfellowshipnews.com/event/7th-of-revelation/
LOCATION:TN
CATEGORIES:Hebrew Calendar
END:VEVENT
BEGIN:VEVENT
DTSTART;VALUE=DATE:20230429
DTEND;VALUE=DATE:20230430
DTSTAMP:20260421T175019
CREATED:20221213T221142Z
LAST-MODIFIED:20221213T221142Z
UID:26466-1682726400-1682812799@www.remnantfellowshipnews.com
SUMMARY:8th of Revelation
DESCRIPTION:
URL:https://www.remnantfellowshipnews.com/event/8th-of-revelation/
LOCATION:TN
CATEGORIES:Hebrew Calendar
END:VEVENT
BEGIN:VEVENT
DTSTART;TZID=America/Chicago:20230429T173000
DTEND;TZID=America/Chicago:20230429T200000
DTSTAMP:20260421T175019
CREATED:20230209T174448Z
LAST-MODIFIED:20230209T174601Z
UID:26799-1682789400-1682798400@www.remnantfellowshipnews.com
SUMMARY:Covenant Wedding Ceremony - Angela Lewis and Harrison Day
DESCRIPTION:Join us for another beautiful Remnant Covenant Wedding Ceremony as  Angela Lewis & Harrison Day  are united in marriage.\nThe Wedding will take place on Saturday\, April 29th at 5:30pm at Remnant Fellowship Church with the webcast and prelude beginning at 5:00pm. \nFor more information on their wedding\, visit their wedding page HERE.
URL:https://www.remnantfellowshipnews.com/event/covenant-wedding-ceremony-angela-lewis-and-harrison-day/
LOCATION:Remnant Fellowship Church\, 1230 Franklin Rd\, Brentwood\, TN\, 37027
CATEGORIES:Assemblies,Covenant Wedding
ATTACH;FMTTYPE=image/jpeg:https://www.remnantfellowshipnews.com/wp-content/uploads/2023/02/Remnant-Fellowship-Wedding-Lewis-Day-03.jpg
END:VEVENT
BEGIN:VEVENT
DTSTART;VALUE=DATE:20230430
DTEND;VALUE=DATE:20230501
DTSTAMP:20260421T175019
CREATED:20221213T221142Z
LAST-MODIFIED:20221213T221142Z
UID:26467-1682812800-1682899199@www.remnantfellowshipnews.com
SUMMARY:9th of Revelation
DESCRIPTION:
URL:https://www.remnantfellowshipnews.com/event/9th-of-revelation/
LOCATION:TN
CATEGORIES:Hebrew Calendar
END:VEVENT
BEGIN:VEVENT
DTSTART;VALUE=DATE:20230501
DTEND;VALUE=DATE:20230502
DTSTAMP:20260421T175019
CREATED:20221213T221142Z
LAST-MODIFIED:20221213T221142Z
UID:26468-1682899200-1682985599@www.remnantfellowshipnews.com
SUMMARY:10th of Revelation
DESCRIPTION:
URL:https://www.remnantfellowshipnews.com/event/10th-of-revelation/
LOCATION:TN
CATEGORIES:Hebrew Calendar
END:VEVENT
BEGIN:VEVENT
DTSTART;VALUE=DATE:20230502
DTEND;VALUE=DATE:20230503
DTSTAMP:20260421T175019
CREATED:20221213T221155Z
LAST-MODIFIED:20221213T221155Z
UID:26469-1682985600-1683071999@www.remnantfellowshipnews.com
SUMMARY:11th of Revelation
DESCRIPTION:
URL:https://www.remnantfellowshipnews.com/event/11th-of-revelation/
LOCATION:TN
CATEGORIES:Hebrew Calendar
END:VEVENT
BEGIN:VEVENT
DTSTART;VALUE=DATE:20230503
DTEND;VALUE=DATE:20230504
DTSTAMP:20260421T175019
CREATED:20221213T221155Z
LAST-MODIFIED:20221213T221155Z
UID:26470-1683072000-1683158399@www.remnantfellowshipnews.com
SUMMARY:12th of Revelation
DESCRIPTION:
URL:https://www.remnantfellowshipnews.com/event/12th-of-revelation/
LOCATION:TN
CATEGORIES:Hebrew Calendar
END:VEVENT
BEGIN:VEVENT
DTSTART;TZID=America/Chicago:20230503T180000
DTEND;TZID=America/Chicago:20230503T193000
DTSTAMP:20260421T175019
CREATED:20230330T160112Z
LAST-MODIFIED:20230330T160112Z
UID:26890-1683136800-1683142200@www.remnantfellowshipnews.com
SUMMARY:Wednesday Evening Assembly and Webcast
DESCRIPTION:Join us locally at 6:00pm for our Assembly.
URL:https://www.remnantfellowshipnews.com/event/wednesday-evening-assembly-and-webcast-109/
LOCATION:Remnant Fellowship Church\, 1230 Franklin Rd\, Brentwood\, TN\, 37027
CATEGORIES:Assemblies
END:VEVENT
BEGIN:VEVENT
DTSTART;VALUE=DATE:20230504
DTEND;VALUE=DATE:20230505
DTSTAMP:20260421T175019
CREATED:20221213T221156Z
LAST-MODIFIED:20221213T221156Z
UID:26471-1683158400-1683244799@www.remnantfellowshipnews.com
SUMMARY:13th of Revelation
DESCRIPTION:
URL:https://www.remnantfellowshipnews.com/event/13th-of-revelation/
LOCATION:TN
CATEGORIES:Hebrew Calendar
END:VEVENT
BEGIN:VEVENT
DTSTART;VALUE=DATE:20230505
DTEND;VALUE=DATE:20230506
DTSTAMP:20260421T175019
CREATED:20221213T221156Z
LAST-MODIFIED:20221213T221156Z
UID:26472-1683244800-1683331199@www.remnantfellowshipnews.com
SUMMARY:14th of Revelation
DESCRIPTION:
URL:https://www.remnantfellowshipnews.com/event/14th-of-revelation/
LOCATION:TN
CATEGORIES:Hebrew Calendar
END:VEVENT
BEGIN:VEVENT
DTSTART;VALUE=DATE:20230506
DTEND;VALUE=DATE:20230507
DTSTAMP:20260421T175019
CREATED:20221213T221156Z
LAST-MODIFIED:20221213T221156Z
UID:26473-1683331200-1683417599@www.remnantfellowshipnews.com
SUMMARY:15th of Revelation
DESCRIPTION:
URL:https://www.remnantfellowshipnews.com/event/15th-of-revelation/
LOCATION:TN
CATEGORIES:Hebrew Calendar
END:VEVENT
BEGIN:VEVENT
DTSTART;TZID=America/Chicago:20230506T093000
DTEND;TZID=America/Chicago:20230506T113000
DTSTAMP:20260421T175019
CREATED:20230223T210159Z
LAST-MODIFIED:20230223T210159Z
UID:26845-1683365400-1683372600@www.remnantfellowshipnews.com
SUMMARY:Sabbath Morning Assembly and Webcast
DESCRIPTION:Join us locally at 9:30am for our Assembly.
URL:https://www.remnantfellowshipnews.com/event/sabbath-morning-assembly-and-webcast-35/
LOCATION:Remnant Fellowship Church\, 1230 Franklin Rd\, Brentwood\, TN\, 37027
CATEGORIES:Assemblies
END:VEVENT
BEGIN:VEVENT
DTSTART;VALUE=DATE:20230507
DTEND;VALUE=DATE:20230508
DTSTAMP:20260421T175019
CREATED:20221213T221210Z
LAST-MODIFIED:20221213T221210Z
UID:26474-1683417600-1683503999@www.remnantfellowshipnews.com
SUMMARY:16th of Revelation
DESCRIPTION:
URL:https://www.remnantfellowshipnews.com/event/16th-of-revelation/
LOCATION:TN
CATEGORIES:Hebrew Calendar
END:VEVENT
BEGIN:VEVENT
DTSTART;VALUE=DATE:20230508
DTEND;VALUE=DATE:20230509
DTSTAMP:20260421T175019
CREATED:20221213T221210Z
LAST-MODIFIED:20221213T221210Z
UID:26475-1683504000-1683590399@www.remnantfellowshipnews.com
SUMMARY:17th of Revelation
DESCRIPTION:
URL:https://www.remnantfellowshipnews.com/event/17th-of-revelation/
LOCATION:TN
CATEGORIES:Hebrew Calendar
END:VEVENT
BEGIN:VEVENT
DTSTART;VALUE=DATE:20230509
DTEND;VALUE=DATE:20230510
DTSTAMP:20260421T175019
CREATED:20221213T221211Z
LAST-MODIFIED:20221213T221211Z
UID:26476-1683590400-1683676799@www.remnantfellowshipnews.com
SUMMARY:18th of Revelation
DESCRIPTION:
URL:https://www.remnantfellowshipnews.com/event/18th-of-revelation/
LOCATION:TN
CATEGORIES:Hebrew Calendar
END:VEVENT
BEGIN:VEVENT
DTSTART;VALUE=DATE:20230510
DTEND;VALUE=DATE:20230511
DTSTAMP:20260421T175019
CREATED:20221213T221211Z
LAST-MODIFIED:20221213T221211Z
UID:26477-1683676800-1683763199@www.remnantfellowshipnews.com
SUMMARY:19th of Revelation
DESCRIPTION:
URL:https://www.remnantfellowshipnews.com/event/19th-of-revelation/
LOCATION:TN
CATEGORIES:Hebrew Calendar
END:VEVENT
BEGIN:VEVENT
DTSTART;TZID=America/Chicago:20230510T180000
DTEND;TZID=America/Chicago:20230510T193000
DTSTAMP:20260421T175019
CREATED:20230330T155622Z
LAST-MODIFIED:20230410T144821Z
UID:26877-1683741600-1683747000@www.remnantfellowshipnews.com
SUMMARY:Wednesday Evening Assembly and Webcast
DESCRIPTION:Join us locally at 6:00pm for our Assembly.
URL:https://www.remnantfellowshipnews.com/event/wednesday-evening-assembly-and-webcast-106/
LOCATION:Remnant Fellowship Church\, 1230 Franklin Rd\, Brentwood\, TN\, 37027
CATEGORIES:Assemblies
END:VEVENT
BEGIN:VEVENT
DTSTART;VALUE=DATE:20230511
DTEND;VALUE=DATE:20230512
DTSTAMP:20260421T175019
CREATED:20221213T221211Z
LAST-MODIFIED:20221213T221211Z
UID:26478-1683763200-1683849599@www.remnantfellowshipnews.com
SUMMARY:20th of Revelation
DESCRIPTION:
URL:https://www.remnantfellowshipnews.com/event/20th-of-revelation/
LOCATION:TN
CATEGORIES:Hebrew Calendar
END:VEVENT
BEGIN:VEVENT
DTSTART;VALUE=DATE:20230512
DTEND;VALUE=DATE:20230513
DTSTAMP:20260421T175019
CREATED:20221213T221225Z
LAST-MODIFIED:20221213T221225Z
UID:26479-1683849600-1683935999@www.remnantfellowshipnews.com
SUMMARY:21st of Revelation
DESCRIPTION:
URL:https://www.remnantfellowshipnews.com/event/21st-of-revelation/
LOCATION:TN
CATEGORIES:Hebrew Calendar
END:VEVENT
BEGIN:VEVENT
DTSTART;VALUE=DATE:20230513
DTEND;VALUE=DATE:20230514
DTSTAMP:20260421T175019
CREATED:20221213T221225Z
LAST-MODIFIED:20221213T221225Z
UID:26480-1683936000-1684022399@www.remnantfellowshipnews.com
SUMMARY:22nd of Revelation
DESCRIPTION:
URL:https://www.remnantfellowshipnews.com/event/22nd-of-revelation/
LOCATION:TN
CATEGORIES:Hebrew Calendar
END:VEVENT
BEGIN:VEVENT
DTSTART;TZID=America/Chicago:20230513T093000
DTEND;TZID=America/Chicago:20230513T110000
DTSTAMP:20260421T175019
CREATED:20220822T184010Z
LAST-MODIFIED:20230510T015709Z
UID:25747-1683970200-1683975600@www.remnantfellowshipnews.com
SUMMARY:Graduation Assembly 2023
DESCRIPTION:GRADUATION for many of our High School and College-aged Saints is a wonderful accomplishment and milestone\, and it has always been important to us to recognize these Saints for how beautifully they are representing GOD\, Jesus Christ\, and this Church throughout their schooling and during this transition in their lives.  SO – on the Sabbath Day\, May 13th\, a segment of our Assembly will feature a time of HONORING these GRADUATES\, and we are excited to do so in a public way! Join us locally at 9:30am for our Assembly and webcast.
URL:https://www.remnantfellowshipnews.com/event/graduation-assembly-2023/
LOCATION:Remnant Fellowship Church\, 1230 Franklin Rd\, Brentwood\, TN\, 37027
CATEGORIES:Assemblies,Events
END:VEVENT
END:VCALENDAR