BEGIN:VCALENDAR
VERSION:2.0
PRODID:-//Remnant Fellowship News - ECPv6.8.3//NONSGML v1.0//EN
CALSCALE:GREGORIAN
METHOD:PUBLISH
X-WR-CALNAME:Remnant Fellowship News
X-ORIGINAL-URL:https://www.remnantfellowshipnews.com
X-WR-CALDESC:Events for Remnant Fellowship News
REFRESH-INTERVAL;VALUE=DURATION:PT1H
X-Robots-Tag:noindex
X-PUBLISHED-TTL:PT1H
BEGIN:VTIMEZONE
TZID:America/Chicago
BEGIN:DAYLIGHT
TZOFFSETFROM:-0600
TZOFFSETTO:-0500
TZNAME:CDT
DTSTART:20230312T080000
END:DAYLIGHT
BEGIN:STANDARD
TZOFFSETFROM:-0500
TZOFFSETTO:-0600
TZNAME:CST
DTSTART:20231105T070000
END:STANDARD
END:VTIMEZONE
BEGIN:VEVENT
DTSTART;TZID=America/Chicago:20230304T173000
DTEND;TZID=America/Chicago:20230304T210000
DTSTAMP:20260423T070454
CREATED:20230207T151704Z
LAST-MODIFIED:20230207T151704Z
UID:26794-1677951000-1677963600@www.remnantfellowshipnews.com
SUMMARY:Covenant Wedding Ceremony - Ellen Kaunisto and Luke Gormsen
DESCRIPTION:Join us for another beautiful Remnant Covenant Wedding Ceremony as  Ellen Kaunisto & Luke Gormsen  are united in marriage.\nThe Wedding will take place on Saturday\, March 4th at 6:00pm at Remnant Fellowship Church with the webcast and prelude beginning at 5:30pm. \nFor more information on their wedding\, visit their wedding page HERE.
URL:https://www.remnantfellowshipnews.com/event/covenant-wedding-ceremony-ellen-kaunisto-and-luke-gormsen/
LOCATION:Remnant Fellowship Church\, 1230 Franklin Rd\, Brentwood\, TN\, 37027
CATEGORIES:Assemblies,Covenant Wedding
ATTACH;FMTTYPE=image/jpeg:https://www.remnantfellowshipnews.com/wp-content/uploads/2023/02/Remnant-Fellowship-Wedding-Kaunisto-Gormsen-01.jpg
END:VEVENT
END:VCALENDAR