BEGIN:VCALENDAR
VERSION:2.0
PRODID:-//Remnant Fellowship News - ECPv6.8.3//NONSGML v1.0//EN
CALSCALE:GREGORIAN
METHOD:PUBLISH
X-WR-CALNAME:Remnant Fellowship News
X-ORIGINAL-URL:https://www.remnantfellowshipnews.com
X-WR-CALDESC:Events for Remnant Fellowship News
REFRESH-INTERVAL;VALUE=DURATION:PT1H
X-Robots-Tag:noindex
X-PUBLISHED-TTL:PT1H
BEGIN:VTIMEZONE
TZID:America/Chicago
BEGIN:DAYLIGHT
TZOFFSETFROM:-0600
TZOFFSETTO:-0500
TZNAME:CDT
DTSTART:20260308T080000
END:DAYLIGHT
BEGIN:STANDARD
TZOFFSETFROM:-0500
TZOFFSETTO:-0600
TZNAME:CST
DTSTART:20261101T070000
END:STANDARD
END:VTIMEZONE
BEGIN:VEVENT
DTSTART;TZID=America/Chicago:20260204T180000
DTEND;TZID=America/Chicago:20260204T193000
DTSTAMP:20260421T024459
CREATED:20260130T210345Z
LAST-MODIFIED:20260130T210345Z
UID:28311-1770228000-1770233400@www.remnantfellowshipnews.com
SUMMARY:Wednesday Evening Assembly and Webcast
DESCRIPTION:Join us locally at 6:00pm for our Assembly.
URL:https://www.remnantfellowshipnews.com/event/wednesday-evening-assembly-and-webcast-205/
LOCATION:Remnant Fellowship Church\, 1230 Franklin Rd\, Brentwood\, TN\, 37027
CATEGORIES:Assemblies
END:VEVENT
BEGIN:VEVENT
DTSTART;TZID=America/Chicago:20260207T173000
DTEND;TZID=America/Chicago:20260207T193000
DTSTAMP:20260421T024459
CREATED:20260114T210229Z
LAST-MODIFIED:20260203T222250Z
UID:28288-1770485400-1770492600@www.remnantfellowshipnews.com
SUMMARY:Sabbath Evening Assembly
DESCRIPTION:Join us locally at 5:30pm for our Assembly.
URL:https://www.remnantfellowshipnews.com/event/gifts-for-god-night/
LOCATION:Remnant Fellowship Church\, 1230 Franklin Rd\, Brentwood\, TN\, 37027
CATEGORIES:Assemblies
END:VEVENT
BEGIN:VEVENT
DTSTART;TZID=America/Chicago:20260211T180000
DTEND;TZID=America/Chicago:20260211T193000
DTSTAMP:20260421T024459
CREATED:20260130T210503Z
LAST-MODIFIED:20260130T210503Z
UID:28312-1770832800-1770838200@www.remnantfellowshipnews.com
SUMMARY:Wednesday Evening Assembly and Webcast
DESCRIPTION:Join us locally at 6:00pm for our Assembly.
URL:https://www.remnantfellowshipnews.com/event/wednesday-evening-assembly-and-webcast-207/
LOCATION:Remnant Fellowship Church\, 1230 Franklin Rd\, Brentwood\, TN\, 37027
CATEGORIES:Assemblies
END:VEVENT
BEGIN:VEVENT
DTSTART;TZID=America/Chicago:20260214T173000
DTEND;TZID=America/Chicago:20260214T210000
DTSTAMP:20260421T024459
CREATED:20260119T182627Z
LAST-MODIFIED:20260203T222235Z
UID:28295-1771090200-1771102800@www.remnantfellowshipnews.com
SUMMARY:Valentine's Assembly and Fellowship
DESCRIPTION:February 14th will be a special Valentines Assembly with our first “Gifts for God Night!” with a meal and fellowship to enjoy after! (Watch your Signals for more details!)
URL:https://www.remnantfellowshipnews.com/event/valentines-assembly-and-fellowship/
LOCATION:Remnant Fellowship Church\, 1230 Franklin Rd\, Brentwood\, TN\, 37027
CATEGORIES:Assemblies
END:VEVENT
BEGIN:VEVENT
DTSTART;TZID=America/Chicago:20260218T180000
DTEND;TZID=America/Chicago:20260218T193000
DTSTAMP:20260421T024459
CREATED:20260130T210434Z
LAST-MODIFIED:20260130T210434Z
UID:28314-1771437600-1771443000@www.remnantfellowshipnews.com
SUMMARY:Wednesday Evening Assembly and Webcast
DESCRIPTION:Join us locally at 6:00pm for our Assembly.
URL:https://www.remnantfellowshipnews.com/event/wednesday-evening-assembly-and-webcast-206/
LOCATION:Remnant Fellowship Church\, 1230 Franklin Rd\, Brentwood\, TN\, 37027
CATEGORIES:Assemblies
END:VEVENT
BEGIN:VEVENT
DTSTART;TZID=America/Chicago:20260221T173000
DTEND;TZID=America/Chicago:20260221T190000
DTSTAMP:20260421T024459
CREATED:20260130T210612Z
LAST-MODIFIED:20260130T210612Z
UID:28313-1771695000-1771700400@www.remnantfellowshipnews.com
SUMMARY:Sabbath Evening Assembly
DESCRIPTION:Join us locally at 5:30pm for our Assembly.
URL:https://www.remnantfellowshipnews.com/event/sabbath-evening-assembly-33/
LOCATION:Remnant Fellowship Church\, 1230 Franklin Rd\, Brentwood\, TN\, 37027
CATEGORIES:Assemblies
END:VEVENT
BEGIN:VEVENT
DTSTART;TZID=America/Chicago:20260225T180000
DTEND;TZID=America/Chicago:20260225T193000
DTSTAMP:20260421T024459
CREATED:20260130T210740Z
LAST-MODIFIED:20260130T210740Z
UID:28315-1772042400-1772047800@www.remnantfellowshipnews.com
SUMMARY:Small Group Gatherings – No Assembly
DESCRIPTION:Please watch your Signal groups for times and locations for your small group gathering!
URL:https://www.remnantfellowshipnews.com/event/small-group-gatherings-no-assembly-23/
LOCATION:Remnant Fellowship Church\, 1230 Franklin Rd\, Brentwood\, TN\, 37027
CATEGORIES:Assemblies
END:VEVENT
BEGIN:VEVENT
DTSTART;TZID=America/Chicago:20260228T173000
DTEND;TZID=America/Chicago:20260228T190000
DTSTAMP:20260421T024459
CREATED:20260130T210757Z
LAST-MODIFIED:20260130T210757Z
UID:28316-1772299800-1772305200@www.remnantfellowshipnews.com
SUMMARY:Small Group Gatherings – No Assembly
DESCRIPTION:Please watch your Signal groups for times and locations for your small group gathering!
URL:https://www.remnantfellowshipnews.com/event/small-group-gatherings-no-assembly-24/
LOCATION:Remnant Fellowship Church\, 1230 Franklin Rd\, Brentwood\, TN\, 37027
CATEGORIES:Assemblies
END:VEVENT
END:VCALENDAR